BEGIN:VCALENDAR
VERSION:2.0
PRODID:-//Jubileusz 100-lecia Archidiecezji Gdańskiej &ndash; św. Wojciech &ndash; Zwiastun Nadziei - ECPv6.15.20//NONSGML v1.0//EN
CALSCALE:GREGORIAN
METHOD:PUBLISH
X-WR-CALNAME:Jubileusz 100-lecia Archidiecezji Gdańskiej &ndash; św. Wojciech &ndash; Zwiastun Nadziei
X-ORIGINAL-URL:https://wojciech25.pl
X-WR-CALDESC:Wydarzenia dla Jubileusz 100-lecia Archidiecezji Gdańskiej &ndash; św. Wojciech &ndash; Zwiastun Nadziei
REFRESH-INTERVAL;VALUE=DURATION:PT1H
X-Robots-Tag:noindex
X-PUBLISHED-TTL:PT1H
BEGIN:VTIMEZONE
TZID:Europe/Warsaw
BEGIN:DAYLIGHT
TZOFFSETFROM:+0100
TZOFFSETTO:+0200
TZNAME:CEST
DTSTART:20230326T010000
END:DAYLIGHT
BEGIN:STANDARD
TZOFFSETFROM:+0200
TZOFFSETTO:+0100
TZNAME:CET
DTSTART:20231029T010000
END:STANDARD
BEGIN:DAYLIGHT
TZOFFSETFROM:+0100
TZOFFSETTO:+0200
TZNAME:CEST
DTSTART:20240331T010000
END:DAYLIGHT
BEGIN:STANDARD
TZOFFSETFROM:+0200
TZOFFSETTO:+0100
TZNAME:CET
DTSTART:20241027T010000
END:STANDARD
BEGIN:DAYLIGHT
TZOFFSETFROM:+0100
TZOFFSETTO:+0200
TZNAME:CEST
DTSTART:20250330T010000
END:DAYLIGHT
BEGIN:STANDARD
TZOFFSETFROM:+0200
TZOFFSETTO:+0100
TZNAME:CET
DTSTART:20251026T010000
END:STANDARD
END:VTIMEZONE
BEGIN:VEVENT
DTSTART;VALUE=DATE:20241014
DTEND;VALUE=DATE:20241015
DTSTAMP:20260423T140111
CREATED:20241004T130731Z
LAST-MODIFIED:20241004T135220Z
UID:2544-1728864000-1728950399@wojciech25.pl
SUMMARY:Parafia pw. św. Kazimierza Zaspa
DESCRIPTION:14 października 2024 RELIKWIE ŚW. WOJCIECHA W NASZEJ PARAFII.\nSzczegóły na stronie parafialnej i ogłoszeniach. \nParafia pw. św. Kazimierza Zaspa \nDekanat   GDAŃSK Przymorze \nAdres: Pilotów 1\, 80-460 Gdańsk\nTelefon: 58 556 50 95\nwww: https://www.swkazimierz.pl/ \nLink Google
URL:https://wojciech25.pl/wpis/parafia-pw-sw-kazimierza-zaspa/
LOCATION:Parafia pw. św. Kazimierza Zaspa\, Pilotów 1\, Gdańsk\, 80-460
CATEGORIES:HARMONOGRAM PEREGRYNACJI,KALENDARIUM
ATTACH;FMTTYPE=image/jpeg:https://wojciech25.pl/wp-content/uploads/2024/10/Parafia-pw.-sw.-Kazimierza-Zaspa.jpg
END:VEVENT
BEGIN:VEVENT
DTSTART;VALUE=DATE:20241013
DTEND;VALUE=DATE:20241014
DTSTAMP:20260423T140111
CREATED:20241004T130731Z
LAST-MODIFIED:20241004T134849Z
UID:2543-1728777600-1728863999@wojciech25.pl
SUMMARY:Parafia pw. Matki Boskiej Fatimskiej Żabianka
DESCRIPTION:13 października 2024 RELIKWIE ŚW. WOJCIECHA W NASZEJ PARAFII.\nSzczegóły na stronie parafialnej i ogłoszeniach. \nParafia pw. Matki Boskiej Fatimskiej Żabianka \nDekanat   GDAŃSK Przymorze \nAdres: plac Kardynała Stefana Wyszyńskiego 1\, 80-354 Gdańsk\nTelefon: 58 557 95 78\nwww: http://www.fatimska.net.pl/ \nLink Google
URL:https://wojciech25.pl/wpis/parafia-pw-matki-boskiej-fatimskiej-zabianka/
LOCATION:Parafia pw. Matki Boskiej Fatimskiej Żabianka\, plac Kardynała Stefana Wyszyńskiego 1\, Gdańsk\, 80-354
CATEGORIES:HARMONOGRAM PEREGRYNACJI,KALENDARIUM
ATTACH;FMTTYPE=image/jpeg:https://wojciech25.pl/wp-content/uploads/2024/10/parafia-pw.-matki-boskiej-fatimskiej-zabianka.jpg
END:VEVENT
BEGIN:VEVENT
DTSTART;VALUE=DATE:20241012
DTEND;VALUE=DATE:20241013
DTSTAMP:20260423T140111
CREATED:20241004T130731Z
LAST-MODIFIED:20241004T134523Z
UID:2542-1728691200-1728777599@wojciech25.pl
SUMMARY:Parafia pw. Opatrzności Bożej Zaspa
DESCRIPTION:12 października 2024 RELIKWIE ŚW. WOJCIECHA W NASZEJ PARAFII.\nSzczegóły na stronie parafialnej i ogłoszeniach. \nParafia pw. Opatrzności Bożej Zaspa \nDekanat   GDAŃSK Przymorze \nAdres: aleja Jana Pawła II 48\, 80-457 Gdańsk\nTelefon: 58 556 43 71\nwww: http://www.opatrznosc.gda.pl/ \nLink Google
URL:https://wojciech25.pl/wpis/parafia-pw-opatrznosci-bozej-zaspa/
LOCATION:Parafia pw. Opatrzności Bożej Zaspa\, aleja Jana Pawła II 48\, Gdańsk\, 80-457
CATEGORIES:HARMONOGRAM PEREGRYNACJI,KALENDARIUM
ATTACH;FMTTYPE=image/jpeg:https://wojciech25.pl/wp-content/uploads/2024/10/Parafia-pw.-Opatrznosci-Bozej-Zaspa.jpg
END:VEVENT
BEGIN:VEVENT
DTSTART;VALUE=DATE:20241011
DTEND;VALUE=DATE:20241012
DTSTAMP:20260423T140111
CREATED:20241004T130731Z
LAST-MODIFIED:20241004T134133Z
UID:2541-1728604800-1728691199@wojciech25.pl
SUMMARY:Parafia pw. św. Brata Alberta Przymorze
DESCRIPTION:11 października 2024 RELIKWIE ŚW. WOJCIECHA W NASZEJ PARAFII.\nSzczegóły na stronie parafialnej i ogłoszeniach. \nParafia pw. św. Brata Alberta Przymorze \nDekanat   GDAŃSK Przymorze \nAdres: Olsztyńska 2\, 80-395 Gdańsk\nTelefon: 58 556 42 40\nwww: https://www.bratalbert.com.pl/ \nLink Google
URL:https://wojciech25.pl/wpis/parafia-pw-sw-brata-alberta-przymorze/
LOCATION:Parafia pw. św. Brata Alberta Przymorze\, Olsztyńska 2\, Gdańsk\, 80-395
CATEGORIES:HARMONOGRAM PEREGRYNACJI,KALENDARIUM
ATTACH;FMTTYPE=image/jpeg:https://wojciech25.pl/wp-content/uploads/2024/10/parafia-pw.-sw.-brata-alberta-przymorze.jpg
END:VEVENT
BEGIN:VEVENT
DTSTART;VALUE=DATE:20241010
DTEND;VALUE=DATE:20241011
DTSTAMP:20260423T140111
CREATED:20241004T130731Z
LAST-MODIFIED:20241004T132457Z
UID:2540-1728518400-1728604799@wojciech25.pl
SUMMARY:Parafia pw. św. Józefa Przymorze
DESCRIPTION:10 października 2024 RELIKWIE ŚW. WOJCIECHA W NASZEJ PARAFII.\nSzczegóły na stronie parafialnej i ogłoszeniach. \nParafia pw. św. Józefa Przymorze \nDekanat   GDAŃSK Przymorze \nAdres: Jagiellońska 9\, 80-371 Gdańsk\nTelefon: 58 553 26 21\nwww: http://www.jozefprzymorze.gda.pl/ \nLink Google
URL:https://wojciech25.pl/wpis/parafia-pw-sw-jozefa-przymorze/
LOCATION:Parafia pw. św. Józefa Przymorze\, Jagiellońska 9\, Gdańsk\, 80-371
CATEGORIES:HARMONOGRAM PEREGRYNACJI,KALENDARIUM
ATTACH;FMTTYPE=image/jpeg:https://wojciech25.pl/wp-content/uploads/2024/10/Parafia-pw.-sw.-Jozefa-Przymorze.jpg
END:VEVENT
BEGIN:VEVENT
DTSTART;VALUE=DATE:20241009
DTEND;VALUE=DATE:20241010
DTSTAMP:20260423T140111
CREATED:20241004T130731Z
LAST-MODIFIED:20241004T132047Z
UID:2539-1728432000-1728518399@wojciech25.pl
SUMMARY:Parafia pw. Chrystusa Odkupiciela Żabianka
DESCRIPTION:9 października 2024 RELIKWIE ŚW. WOJCIECHA W NASZEJ PARAFII.\nSzczegóły na stronie parafialnej i ogłoszeniach. \nParafia pw. Chrystusa Odkupiciela Żabianka \nDekanat   GDAŃSK Przymorze \nAdres: Gdyńska 8\, 80-340 Gdańsk\nTelefon: 58 557 93 51\nwww: http://www.odkupiciel.net.pl/ \nLink Google
URL:https://wojciech25.pl/wpis/parafia-pw-chrystusa-odkupiciela-zabianka/
LOCATION:Parafia pw. Chrystusa Odkupiciela Żabianka\, Gdyńska 8\, Gdańsk\, 80-340
CATEGORIES:HARMONOGRAM PEREGRYNACJI,KALENDARIUM
ATTACH;FMTTYPE=image/jpeg:https://wojciech25.pl/wp-content/uploads/2024/10/Parafia-pw.-Chrystusa-Odkupiciela-Zabianka.jpg
END:VEVENT
BEGIN:VEVENT
DTSTART;VALUE=DATE:20241008
DTEND;VALUE=DATE:20241009
DTSTAMP:20260423T140111
CREATED:20241004T130731Z
LAST-MODIFIED:20241004T131703Z
UID:2538-1728345600-1728431999@wojciech25.pl
SUMMARY:Parafia pw. św. Piotra i Pawła Jelitkowo
DESCRIPTION:8 października 2024 RELIKWIE ŚW. WOJCIECHA W NASZEJ PARAFII.\nSzczegóły na stronie parafialnej i ogłoszeniach. \nParafia pw. św. Piotra i Pawła Jelitkowo \nDekanat   GDAŃSK Przymorze \nAdres: Kapliczna 15\, 80-341 Gdańsk\nTelefon: 58 553 22 30\nwww: http://www.jelitkowo-parafia.pl/ \nLink Google
URL:https://wojciech25.pl/wpis/parafia-pw-sw-piotra-i-pawla-jelitkowo/
LOCATION:Parafia pw. św. Piotra i Pawła Jelitkowo\, Kapliczna 15\, Gdańsk\, 80-341
CATEGORIES:HARMONOGRAM PEREGRYNACJI,KALENDARIUM
ATTACH;FMTTYPE=image/jpeg:https://wojciech25.pl/wp-content/uploads/2024/10/Parafia-pw.-sw.-Piotra-i-Pawla-Jelitkowo.jpg
END:VEVENT
BEGIN:VEVENT
DTSTART;VALUE=DATE:20241007
DTEND;VALUE=DATE:20241008
DTSTAMP:20260423T140111
CREATED:20241004T130731Z
LAST-MODIFIED:20241004T131233Z
UID:2537-1728259200-1728345599@wojciech25.pl
SUMMARY:Parafia pw. NMP Król. Różańca św. Przymorze
DESCRIPTION:7 października 2024 RELIKWIE ŚW. WOJCIECHA W NASZEJ PARAFII.\nSzczegóły na stronie parafialnej i ogłoszeniach. \nParafia pw. NMP Król. Różańca św. Przymorze \nDekanat   GDAŃSK Przymorze \nAdres: Plac NMP 1\, 80-394 Gdańsk\nTelefon: 58 558 33 93\nwww: http://nmp.pl/?lang=pl \nLink Google
URL:https://wojciech25.pl/wpis/parafia-pw-nmp-krol-rozanca-sw-przymorze/
LOCATION:Parafia pw. NMP Król. Różańca św. Przymorze\, Plac NMP 1\, Gdańsk\, 80-394
CATEGORIES:HARMONOGRAM PEREGRYNACJI,KALENDARIUM
ATTACH;FMTTYPE=image/jpeg:https://wojciech25.pl/wp-content/uploads/2024/10/Parafia-pw.-NMP-Krol.-Rozanca-sw.-Przymorze.jpg
END:VEVENT
BEGIN:VEVENT
DTSTART;VALUE=DATE:20241006
DTEND;VALUE=DATE:20241007
DTSTAMP:20260423T140111
CREATED:20240919T113541Z
LAST-MODIFIED:20240919T130721Z
UID:2434-1728172800-1728259199@wojciech25.pl
SUMMARY:Parafia pw. Zesłania Ducha św. (CM) Sopot
DESCRIPTION:6 października 2024 RELIKWIE ŚW. WOJCIECHA W NASZEJ PARAFII.\nSzczegóły na stronie parafialnej i ogłoszeniach. \nParafia pw. Zesłania Ducha św. (CM) Sopot \nDekanat   SOPOT \nAdres: Kujawska 50/52\, 81-862 Sopot\nTelefon: 58 551 74 44\nwww: https://misjonarzesopot.pl/ \nLink Google
URL:https://wojciech25.pl/wpis/parafia-pw-zeslania-ducha-sw-cm-sopot/
LOCATION:Parafia pw. Zesłania Ducha św. (CM) Sopot\, Kujawska 50\, Sopot\, 81-862
CATEGORIES:HARMONOGRAM PEREGRYNACJI,KALENDARIUM
ATTACH;FMTTYPE=image/jpeg:https://wojciech25.pl/wp-content/uploads/2024/09/Parafia-pw.-Zeslania-Ducha-sw.-CM-Sopot.jpg
END:VEVENT
BEGIN:VEVENT
DTSTART;VALUE=DATE:20241005
DTEND;VALUE=DATE:20241006
DTSTAMP:20260423T140111
CREATED:20240919T113541Z
LAST-MODIFIED:20240919T123447Z
UID:2433-1728086400-1728172799@wojciech25.pl
SUMMARY:Parafia pw. Najśw. Serca Pana Jezusa Sopot
DESCRIPTION:5 października 2024 RELIKWIE ŚW. WOJCIECHA W NASZEJ PARAFII.\nSzczegóły na stronie parafialnej i ogłoszeniach. \nParafia pw. Najśw. Serca Pana Jezusa Sopot \nDekanat   SOPOT \nul. Malczewskiego 18\, 81-817 Sopot \ntel. 690 487 130 \nhttps://www.nspjsopot.pl/kontakt \nLink Google
URL:https://wojciech25.pl/wpis/parafia-pw-najsw-serca-pana-jezusa-sopot/
LOCATION:Parafia pw. Najśw. Serca Pana Jezusa Sopot\, Malczewskiego 18\, Sopot\, 81-817
CATEGORIES:HARMONOGRAM PEREGRYNACJI,KALENDARIUM
ATTACH;FMTTYPE=image/jpeg:https://wojciech25.pl/wp-content/uploads/2024/09/Parafia-pw.-Najsw.-Serca-Pana-Jezusa-Sopot-SOPOT.jpg
END:VEVENT
BEGIN:VEVENT
DTSTART;VALUE=DATE:20241004
DTEND;VALUE=DATE:20241005
DTSTAMP:20260423T140111
CREATED:20240919T113541Z
LAST-MODIFIED:20240919T124346Z
UID:2432-1728000000-1728086399@wojciech25.pl
SUMMARY:Parafia pw. św. Bernarda Sopot
DESCRIPTION:4 października 2024 RELIKWIE ŚW. WOJCIECHA W NASZEJ PARAFII.\nSzczegóły na stronie parafialnej i ogłoszeniach. \nParafia pw. św. Bernarda Sopot \nDekanat   SOPOT \nAdres: Antoniego Abrahama 41\, 81-833 Sopot\nTelefon: 58 551 41 32\nwww: http://www.bernard.sopot.pl/ \nLink Google
URL:https://wojciech25.pl/wpis/parafia-pw-sw-bernarda-sopot/
LOCATION:Parafia pw. św. Bernarda Sopot\, Antoniego Abrahama 41\, Sopot\, 81-833
CATEGORIES:HARMONOGRAM PEREGRYNACJI,KALENDARIUM
ATTACH;FMTTYPE=image/jpeg:https://wojciech25.pl/wp-content/uploads/2024/09/Parafia-pw.-sw.-Bernarda-Sopot-SOPOT.jpg
END:VEVENT
BEGIN:VEVENT
DTSTART;VALUE=DATE:20241003
DTEND;VALUE=DATE:20241004
DTSTAMP:20260423T140111
CREATED:20240919T113541Z
LAST-MODIFIED:20240919T124101Z
UID:2431-1727913600-1727999999@wojciech25.pl
SUMMARY:Parafia pw. św. Andrzeja Boboli Sopot
DESCRIPTION:3 października 2024 RELIKWIE ŚW. WOJCIECHA W NASZEJ PARAFII.\nSzczegóły na stronie parafialnej i ogłoszeniach. \nParafia pw. św. Andrzeja Boboli Sopot \nDekanat   SOPOT \nAdres: Powstańców Warszawy 15\, 81-718 Sopot\nTelefon: 58 551 50 03\nwww: https://www.swbobola.pl/ \nLink Google
URL:https://wojciech25.pl/wpis/parafia-pw-sw-andrzeja-boboli-sopot/
LOCATION:Parafia pw. św. Andrzeja Boboli Sopot\, Powstańców Warszawy 15\, Sopot\, 81-718
CATEGORIES:HARMONOGRAM PEREGRYNACJI,KALENDARIUM
ATTACH;FMTTYPE=image/jpeg:https://wojciech25.pl/wp-content/uploads/2024/09/Parafia-pw.-sw.-Andrzeja-Boboli-Sopot-SOPOT.jpg
END:VEVENT
BEGIN:VEVENT
DTSTART;VALUE=DATE:20241002
DTEND;VALUE=DATE:20241003
DTSTAMP:20260423T140111
CREATED:20240919T113541Z
LAST-MODIFIED:20240919T124754Z
UID:2430-1727827200-1727913599@wojciech25.pl
SUMMARY:Parafia pw. św. Jerzego Sopot
DESCRIPTION:2 października 2024 RELIKWIE ŚW. WOJCIECHA W NASZEJ PARAFII.\nSzczegóły na stronie parafialnej i ogłoszeniach. \nParafia pw. św. Jerzego Sopot \nDekanat   SOPOT \nAdres: Tadeusza Kościuszki 1\, 81-881 Sopot\nTelefon: 58 551 05 48\nwww: http://www.jerzy.sopot.pl/?tc \nLink Google
URL:https://wojciech25.pl/wpis/parafia-pw-sw-jerzego-sopot/
LOCATION:Parafia pw. św. Jerzego Sopot\, Tadeusza Kościuszki 1\, Sopot\, 81-881
CATEGORIES:HARMONOGRAM PEREGRYNACJI,KALENDARIUM
ATTACH;FMTTYPE=image/jpeg:https://wojciech25.pl/wp-content/uploads/2024/09/Parafia-pw.-sw.-Jerzego-Sopot-SOPOT.jpg
END:VEVENT
BEGIN:VEVENT
DTSTART;VALUE=DATE:20241001
DTEND;VALUE=DATE:20241002
DTSTAMP:20260423T140111
CREATED:20240919T113541Z
LAST-MODIFIED:20240919T120231Z
UID:2429-1727740800-1727827199@wojciech25.pl
SUMMARY:Parafia pw. Gwiazdy Morza Sopot
DESCRIPTION:1 października 2024 RELIKWIE ŚW. WOJCIECHA W NASZEJ PARAFII.\nSzczegóły na stronie parafialnej i ogłoszeniach. \nParafia pw. Gwiazdy Morza Sopot \nDekanat   SOPOT \nAdres: Kościół Gwiazda Morza\, Tadeusza Kościuszki 19\, 81-704 Sopot\nTelefon: 58 551 35 33\nwww: https://www.gwiazdamorzasopot.pl/ \nLink Google
URL:https://wojciech25.pl/wpis/parafia-pw-gwiazdy-morza-sopot/
LOCATION:Parafia pw. Gwiazdy Morza Sopot\, Kościół Gwiazda Morza\, Tadeusza Kościuszki 19\, Sopot\, 81-704
CATEGORIES:HARMONOGRAM PEREGRYNACJI,KALENDARIUM
ATTACH;FMTTYPE=image/jpeg:https://wojciech25.pl/wp-content/uploads/2024/09/Parafia-pw.-Gwiazdy-Morza-Sopot-SOPOT.jpg
END:VEVENT
BEGIN:VEVENT
DTSTART;VALUE=DATE:20240930
DTEND;VALUE=DATE:20241001
DTSTAMP:20260423T140111
CREATED:20240919T113541Z
LAST-MODIFIED:20240919T125843Z
UID:2428-1727654400-1727740799@wojciech25.pl
SUMMARY:Parafia pw. św. Michała Archanioła Sopot
DESCRIPTION:30 września 2024 RELIKWIE ŚW. WOJCIECHA W NASZEJ PARAFII.\nSzczegóły na stronie parafialnej i ogłoszeniach. \nParafia pw. św. Michała Archanioła Sopot \nDekanat   SOPOT \nAdres: 3 Maja 49\, 81-743 Sopot\nTelefon: 58 551 17 58\nwww: http://www.sw-michal.pl/ \nLink Google
URL:https://wojciech25.pl/wpis/parafia-pw-sw-michala-archaniola-sopot/
LOCATION:Parafia pw. św. Michała Archanioła Sopot\, 3 Maja 49\, Sopot\, 81-743
CATEGORIES:HARMONOGRAM PEREGRYNACJI,KALENDARIUM
ATTACH;FMTTYPE=image/jpeg:https://wojciech25.pl/wp-content/uploads/2024/09/Parafia-pw.-sw.-Michala-Archaniola-Sopot-SOPOT.jpg
END:VEVENT
BEGIN:VEVENT
DTSTART;VALUE=DATE:20240929
DTEND;VALUE=DATE:20240930
DTSTAMP:20260423T140111
CREATED:20240919T113541Z
LAST-MODIFIED:20240919T130412Z
UID:2427-1727568000-1727654399@wojciech25.pl
SUMMARY:Parafia pw. Świętej Trójcy Dąbrowa
DESCRIPTION:29 września 2024 RELIKWIE ŚW. WOJCIECHA W NASZEJ PARAFII.\nSzczegóły na stronie parafialnej i ogłoszeniach. \nParafia pw. Świętej Trójcy Dąbrowa \nDekanat   GDYNIA Orłowo \nAdres: Nagietkowa 61\, 81-589 Gdynia\nTelefon: 786 040 475\nwww: https://www.parafia.gdynia.pl/ \nLink Google
URL:https://wojciech25.pl/wpis/parafia-pw-swietej-trojcy-dabrowa/
LOCATION:Parafia pw. Świętej Trójcy Dąbrowa\, Nagietkowa 61\, Gdynia\, 81-589
CATEGORIES:HARMONOGRAM PEREGRYNACJI,KALENDARIUM
ATTACH;FMTTYPE=image/jpeg:https://wojciech25.pl/wp-content/uploads/2024/09/Parafia-pw.-Swietej-Trojcy-Dabrowa-GDYNIA-Orlowo.jpg
END:VEVENT
BEGIN:VEVENT
DTSTART;VALUE=DATE:20240928
DTEND;VALUE=DATE:20240929
DTSTAMP:20260423T140111
CREATED:20240919T113541Z
LAST-MODIFIED:20240919T125501Z
UID:2426-1727481600-1727567999@wojciech25.pl
SUMMARY:Parafia pw. św. Karola Boromeusza Na Wzgórzu
DESCRIPTION:28 września 2024 RELIKWIE ŚW. WOJCIECHA W NASZEJ PARAFII.\nSzczegóły na stronie parafialnej i ogłoszeniach. \nParafia pw. św. Karola Boromeusza Na Wzgórzu \nDekanat   GDYNIA Orłowo \nAdres: Górnicza 42\, 81-572 Gdynia\nTelefon: 725 888 850\nwww: https://karol.gdynia.pl/ \nLink Google
URL:https://wojciech25.pl/wpis/parafia-pw-sw-karola-boromeusza-na-wzgorzu/
LOCATION:Parafia pw. św. Karola Boromeusza Na Wzgórzu\, Górnicza 42\, Gdynia\, 81-572
CATEGORIES:HARMONOGRAM PEREGRYNACJI,KALENDARIUM
ATTACH;FMTTYPE=image/jpeg:https://wojciech25.pl/wp-content/uploads/2024/09/Parafia-pw.-sw.-Karola-Boromeusza-Na-Wzgorzu-GDYNIA-Orlowo.jpg
END:VEVENT
BEGIN:VEVENT
DTSTART;VALUE=DATE:20240927
DTEND;VALUE=DATE:20240928
DTSTAMP:20260423T140111
CREATED:20240919T113541Z
LAST-MODIFIED:20240919T130141Z
UID:2425-1727395200-1727481599@wojciech25.pl
SUMMARY:Parafia pw. św. Wawrzyńca Wielki Kack
DESCRIPTION:27 września 2024 RELIKWIE ŚW. WOJCIECHA W NASZEJ PARAFII.\nSzczegóły na stronie parafialnej i ogłoszeniach. \nParafia pw. św. Wawrzyńca Wielki Kack \nDekanat   GDYNIA Orłowo \nŹródło Marii 18\, Pomorskie\, Poland\n692 888 652 \nwww: https://www.facebook.com/parafiawawrzynca/?locale=pl_PL \nLink Google
URL:https://wojciech25.pl/wpis/parafia-pw-sw-wawrzynca-wielki-kack/
LOCATION:Parafia pw. św. Wawrzyńca Wielki Kack\, Źródło Marii 18\, GDYNIA Orłowo
CATEGORIES:HARMONOGRAM PEREGRYNACJI,KALENDARIUM
ATTACH;FMTTYPE=image/jpeg:https://wojciech25.pl/wp-content/uploads/2024/09/Parafia-pw.-sw.-Wawrzynca-Wielki-Kack-GDYNIA-Orlowo.jpg
END:VEVENT
BEGIN:VEVENT
DTSTART;VALUE=DATE:20240926
DTEND;VALUE=DATE:20240927
DTSTAMP:20260423T140111
CREATED:20240919T113541Z
LAST-MODIFIED:20240919T123746Z
UID:2424-1727308800-1727395199@wojciech25.pl
SUMMARY:Parafia pw. Niep. Serca Maryi Karwiny
DESCRIPTION:26 września 2024 RELIKWIE ŚW. WOJCIECHA W NASZEJ PARAFII.\nSzczegóły na stronie parafialnej i ogłoszeniach. \nParafia pw. Niep. Serca Maryi Karwiny \nDekanat   GDYNIA Orłowo \nAdres: Makuszyńskiego 2\, 81-595 Gdynia\nTelefon: 58 629 20 46\nwww: http://parafiakarwiny.pl/ \nLink Google
URL:https://wojciech25.pl/wpis/parafia-pw-niep-serca-maryi-karwiny/
LOCATION:Parafia pw. Niep. Serca Maryi Karwiny\, Makuszyńskiego 2\, Gdynia\, 81-595
CATEGORIES:HARMONOGRAM PEREGRYNACJI,KALENDARIUM
ATTACH;FMTTYPE=image/jpeg:https://wojciech25.pl/wp-content/uploads/2024/09/Parafia-pw.-Niep.-Serca-Maryi-Karwiny-GDYNIA-Orlowo.jpg
END:VEVENT
BEGIN:VEVENT
DTSTART;VALUE=DATE:20240925
DTEND;VALUE=DATE:20240926
DTSTAMP:20260423T140111
CREATED:20240919T113541Z
LAST-MODIFIED:20240919T122557Z
UID:2423-1727222400-1727308799@wojciech25.pl
SUMMARY:Parafia pw. Królowej Jadwigi Karwiny
DESCRIPTION:25 września 2024 RELIKWIE ŚW. WOJCIECHA W NASZEJ PARAFII.\nSzczegóły na stronie parafialnej i ogłoszeniach. \nParafia pw. Królowej Jadwigi Karwiny \nDekanat   GDYNIA Orłowo \nAdres: Korzenna 2\, 81-587 Gdynia\nTelefon: 58 669 00 05\nwww: http://www.sw-jadwiga.pl/ \nLink Google
URL:https://wojciech25.pl/wpis/parafia-pw-krolowej-jadwigi-karwiny/
LOCATION:Parafia pw. Królowej Jadwigi Karwiny\, Korzenna 2\, Gdynia\, 81-587
CATEGORIES:HARMONOGRAM PEREGRYNACJI,KALENDARIUM
ATTACH;FMTTYPE=image/jpeg:https://wojciech25.pl/wp-content/uploads/2024/09/Parafia-pw.-Krolowej-Jadwigi-Karwiny-GDYNIA-Orlowo.jpg
END:VEVENT
BEGIN:VEVENT
DTSTART;VALUE=DATE:20240924
DTEND;VALUE=DATE:20240925
DTSTAMP:20260423T140111
CREATED:20240910T104538Z
LAST-MODIFIED:20240919T115120Z
UID:2348-1727136000-1727222399@wojciech25.pl
SUMMARY:Parafia pw. Chrystusa Króla Mały Kack
DESCRIPTION:24 września 2024 RELIKWIE ŚW. WOJCIECHA W NASZEJ PARAFII.\nSzczegóły na stronie parafialnej i ogłoszeniach. \nParafia pw. Chrystusa Króla Mały Kack \nDekanat   GDYNIA Orłowo \nAdres: ul. Ks. J. B\, Księdza Biskupa Jana Bernarda Szlagi 3\, 81-506 Gdynia\nTelefon: 58 622 23 52\nwww https://www.chrystuskrolkack.pl/ \nLink Google
URL:https://wojciech25.pl/wpis/parafia-pw-chrystusa-krola-maly-kack/
LOCATION:Parafia pw. Chrystusa Króla Mały Kack\, Ks. J. B\, Księdza Biskupa Jana Bernarda Szlagi 3\, Gdynia\, 81-506
CATEGORIES:HARMONOGRAM PEREGRYNACJI,KALENDARIUM
ATTACH;FMTTYPE=image/jpeg:https://wojciech25.pl/wp-content/uploads/2024/09/Parafia-pw.-Chrystusa-Krola-Maly-Kack-GDYNIA-Orlowo.jpg
END:VEVENT
BEGIN:VEVENT
DTSTART;VALUE=DATE:20240923
DTEND;VALUE=DATE:20240924
DTSTAMP:20260423T140111
CREATED:20240919T113541Z
LAST-MODIFIED:20240919T122840Z
UID:2421-1727049600-1727135999@wojciech25.pl
SUMMARY:Parafia pw. M.B. Bolesnej Orłowo
DESCRIPTION:23 września 2024 RELIKWIE ŚW. WOJCIECHA W NASZEJ PARAFII.\nSzczegóły na stronie parafialnej i ogłoszeniach. \nParafia pw. M.B. Bolesnej Orłowo \nDekanat   GDYNIA Orłowo \nAdres: Księdza Stanisława Zawackiego 4\, 81-514 Gdynia\nTelefon: 58 664 96 21\nwww: https://parafia-orlowo.pl/ \nLink Google
URL:https://wojciech25.pl/wpis/parafia-pw-m-b-bolesnej-orlowo/
LOCATION:Parafia pw. M.B. Bolesnej Orłowo\, Księdza Stanisława Zawackiego 4\, Gdynia\, 81-514
CATEGORIES:HARMONOGRAM PEREGRYNACJI,KALENDARIUM
ATTACH;FMTTYPE=image/jpeg:https://wojciech25.pl/wp-content/uploads/2024/09/Parafia-pw.-M.B.-Bolesnej-Orlowo-GDYNIA-Orlowo.jpg
END:VEVENT
BEGIN:VEVENT
DTSTART;VALUE=DATE:20240922
DTEND;VALUE=DATE:20240923
DTSTAMP:20260423T140111
CREATED:20240910T104538Z
LAST-MODIFIED:20240919T115643Z
UID:2346-1726963200-1727049599@wojciech25.pl
SUMMARY:Parafia pw. Chrystusa Miłosiernego Redłowo
DESCRIPTION:22 września 2024 RELIKWIE ŚW. WOJCIECHA W NASZEJ PARAFII.\nSzczegóły na stronie parafialnej i ogłoszeniach. \nParafia pw. Chrystusa Miłosiernego Redłowo \nDekanat   GDYNIA Orłowo \nAdres: Mikołaja Kopernika 75\, 81-457 Gdynia\nTelefon: 58 622 43 28\nwww: https://parafiaredlowo.pl/ \nLink Google
URL:https://wojciech25.pl/wpis/parafia-pw-chrystusa-milosiernego-redlowo/
LOCATION:Parafia pw. Chrystusa Miłosiernego Redłowo\, Mikołaja Kopernika 75\, Gdynia\, 81-457
CATEGORIES:HARMONOGRAM PEREGRYNACJI,KALENDARIUM
ATTACH;FMTTYPE=image/jpeg:https://wojciech25.pl/wp-content/uploads/2024/09/Parafia-pw.-Chrystusa-Milosiernego-Redlowo-GDYNIA-Orlowo.jpg
END:VEVENT
BEGIN:VEVENT
DTSTART;VALUE=DATE:20240921
DTEND;VALUE=DATE:20240922
DTSTAMP:20260423T140111
CREATED:20240910T104538Z
LAST-MODIFIED:20240910T120327Z
UID:2345-1726876800-1726963199@wojciech25.pl
SUMMARY:Parafia pw. św. Józefa S. Pelczara Wiczlino
DESCRIPTION:21 września 2024 RELIKWIE ŚW. WOJCIECHA W NASZEJ PARAFII.\nSzczegóły na stronie parafialnej i ogłoszeniach. \nParafia pw. św. Józefa S. Pelczara Wiczlino \nDekanat   GDYNIA Śródmieście \nAdres:\nul. Bpa Pelczara 29\n81-577 Gdynia Wiczlino \ntel.: (58) 624 97 44 \nwww.pelczar.diecezja.gda.pl \nLink Google
URL:https://wojciech25.pl/wpis/parafia-pw-sw-jozefa-s-pelczara-wiczlino/
LOCATION:Parafia pw. św. Józefa S. Pelczara Wiczlino\, Bpa Pelczara 29\, Gdynia Wiczlino\, 81-577
CATEGORIES:HARMONOGRAM PEREGRYNACJI,KALENDARIUM
ATTACH;FMTTYPE=image/jpeg:https://wojciech25.pl/wp-content/uploads/2024/09/Parafia-pw.-sw.-Jozefa-S.-Pelczara-Wiczlino-GDYNIA-Srodmiescie.jpg
END:VEVENT
BEGIN:VEVENT
DTSTART;VALUE=DATE:20240920
DTEND;VALUE=DATE:20240921
DTSTAMP:20260423T140111
CREATED:20240910T104538Z
LAST-MODIFIED:20240910T120327Z
UID:2344-1726790400-1726876799@wojciech25.pl
SUMMARY:Parafia pw. św. Maksymiliana Kolbego Witomino
DESCRIPTION:20 września 2024 RELIKWIE ŚW. WOJCIECHA W NASZEJ PARAFII.\nSzczegóły na stronie parafialnej i ogłoszeniach. \nParafia pw. św. Maksymiliana Kolbego Witomino \nDekanat   GDYNIA Śródmieście \nAdres:\nul. Konwaliowa 13\n81-651 Gdynia Witomino \ntel.: (58) 624 26 70 \nwww.maksymilian.eu \nLink Google
URL:https://wojciech25.pl/wpis/parafia-pw-sw-maksymiliana-kolbego-witomino/
LOCATION:Parafia pw. św. Maksymiliana Kolbego Witomino\, Konwaliowa 13\, Gdynia Witomino\, 81-651
CATEGORIES:HARMONOGRAM PEREGRYNACJI,KALENDARIUM
ATTACH;FMTTYPE=image/jpeg:https://wojciech25.pl/wp-content/uploads/2024/09/sw-maksymiliana-marii-kolbego.jpg
END:VEVENT
BEGIN:VEVENT
DTSTART;VALUE=DATE:20240919
DTEND;VALUE=DATE:20240920
DTSTAMP:20260423T140111
CREATED:20240910T104538Z
LAST-MODIFIED:20240910T120327Z
UID:2343-1726704000-1726790399@wojciech25.pl
SUMMARY:Parafia pw. Podw. Krzyża św. Witomino
DESCRIPTION:19 września 2024 RELIKWIE ŚW. WOJCIECHA W NASZEJ PARAFII.\nSzczegóły na stronie parafialnej i ogłoszeniach. \nParafia pw. Podw. Krzyża św. Witomino \nDekanat   GDYNIA Śródmieście \nAdres: Hodowlana 3\, 81-460 Gdynia\nTelefon: 58 624 16 08\nwww: https://www.witkrzyz.pl/ \nLink Google
URL:https://wojciech25.pl/wpis/parafia-pw-podw-krzyza-sw-witomino/
LOCATION:Parafia pw. Podw. Krzyża św. Witomino\, Hodowlana 3\, Gdynia\, 81-460
CATEGORIES:HARMONOGRAM PEREGRYNACJI,KALENDARIUM
ATTACH;FMTTYPE=image/jpeg:https://wojciech25.pl/wp-content/uploads/2024/09/Parafia-pw.-Podw.-Krzyza-sw.-Witomino-GDYNIA-Srodmiescie.jpg
END:VEVENT
BEGIN:VEVENT
DTSTART;VALUE=DATE:20240918
DTEND;VALUE=DATE:20240919
DTSTAMP:20260423T140111
CREATED:20240910T104538Z
LAST-MODIFIED:20240910T120328Z
UID:2342-1726617600-1726703999@wojciech25.pl
SUMMARY:Parafia pw. św. U. Ledóchowskiej Chwarzno
DESCRIPTION:18 września 2024 RELIKWIE ŚW. WOJCIECHA W NASZEJ PARAFII.\nSzczegóły na stronie parafialnej i ogłoszeniach. \nParafia pw. św. U. Ledóchowskiej Chwarzno \nDekanat   GDYNIA Śródmieście \nAdres:\nul. Ateny 15\n81-601 Gdynia Chwarzno \ntel.: (58) 621 48 67\nledugdy@diecezja.gda.pl\nwww.urszula-gdynia.pl \nLink Google
URL:https://wojciech25.pl/wpis/parafia-pw-sw-u-ledochowskiej-chwarzno/
LOCATION:Parafia pw. św. U. Ledóchowskiej Chwarzno\, Ateny 15\, Gdynia Chwarzno\, 81-601
CATEGORIES:HARMONOGRAM PEREGRYNACJI,KALENDARIUM
ATTACH;FMTTYPE=image/jpeg:https://wojciech25.pl/wp-content/uploads/2024/09/Parafia-pw.-sw.-U.-Ledochowskiej-Chwarzno.jpg
END:VEVENT
BEGIN:VEVENT
DTSTART;VALUE=DATE:20240917
DTEND;VALUE=DATE:20240918
DTSTAMP:20260423T140111
CREATED:20240910T104538Z
LAST-MODIFIED:20240910T120328Z
UID:2341-1726531200-1726617599@wojciech25.pl
SUMMARY:Parafia pw. św. Stanisława Kostki (SI) Gdynia
DESCRIPTION:17 września 2024 RELIKWIE ŚW. WOJCIECHA W NASZEJ PARAFII.\nSzczegóły na stronie parafialnej i ogłoszeniach. \nParafia pw. św. Stanisława Kostki (SI) Gdynia \nDekanat   GDYNIA Śródmieście \nAdres:\nul. Tatrzańska 35\n81-313 Gdynia \ntel.: (58) 620 45 01 \nstangdy@diecezja.gda.pl\nwww.gdynia.parafia.jezuici.pl \nLink Google
URL:https://wojciech25.pl/wpis/parafia-pw-sw-stanislawa-kostki-si-gdynia/
LOCATION:Parafia pw. św. Stanisława Kostki (SI) Gdynia\, Tatrzańska 35\, Gdynia\, 81-313
CATEGORIES:HARMONOGRAM PEREGRYNACJI,KALENDARIUM
ATTACH;FMTTYPE=image/jpeg:https://wojciech25.pl/wp-content/uploads/2024/09/sw-stanislawa-kostki-gdynia.jpg
END:VEVENT
BEGIN:VEVENT
DTSTART;VALUE=DATE:20240916
DTEND;VALUE=DATE:20240917
DTSTAMP:20260423T140111
CREATED:20240910T104538Z
LAST-MODIFIED:20240910T120328Z
UID:2340-1726444800-1726531199@wojciech25.pl
SUMMARY:Matki Bożej Nieustającej Pomocy i Św. Piotra Rybaka (CSSR) Gdynia
DESCRIPTION:16 września 2024 RELIKWIE ŚW. WOJCIECHA W NASZEJ PARAFII.\nSzczegóły na stronie parafialnej i ogłoszeniach. \nMatki Bożej Nieustającej Pomocy i Św. Piotra Rybaka (CSSR) Gdynia \nDekanat   GDYNIA Śródmieście \nAdres:\nul. Portowa 2\n81-350 Gdynia \ntel.: 662-652-001 \nredemptorysci.gdynia@gmail.com\nwww.redemptoryscigdynia.info \nLink Google
URL:https://wojciech25.pl/wpis/matki-bozej-nieustajacej-pomocy-i-sw-piotra-rybaka-cssr-gdynia/
LOCATION:Matki Bożej Nieustającej Pomocy i Św. Piotra Rybaka (CSSR) Gdynia\, Portowa 2\, Gdynia\, 81-350
CATEGORIES:HARMONOGRAM PEREGRYNACJI,KALENDARIUM
ATTACH;FMTTYPE=image/jpeg:https://wojciech25.pl/wp-content/uploads/2024/09/matki-bozej-nieustajacej-pomocy-i-sw-piotra-rybaka.jpg
END:VEVENT
BEGIN:VEVENT
DTSTART;VALUE=DATE:20240915
DTEND;VALUE=DATE:20240916
DTSTAMP:20260423T140111
CREATED:20240910T104538Z
LAST-MODIFIED:20240910T120328Z
UID:2339-1726358400-1726444799@wojciech25.pl
SUMMARY:Parafia pw. św. Antoniego Padew. (OFMConv) Gdynia
DESCRIPTION:15 września 2024 RELIKWIE ŚW. WOJCIECHA W NASZEJ PARAFII.\nSzczegóły na stronie parafialnej i ogłoszeniach. \nParafia pw. św. Antoniego Padew. (OFMConv) Gdynia \nDekanat   GDYNIA Śródmieście \nAdres:\nul. Ujejskiego 40\n81-426 Gdynia Wzgórze Św. Maksymiliana \ntel.: (58) 622 02 38 \nantoni@diecezjagdansk.pl\nwww.gdynia.franciszkanie.pl \nLink Google
URL:https://wojciech25.pl/wpis/parafia-pw-sw-antoniego-padew-ofmconv-gdynia/
LOCATION:Parafia pw. św. Antoniego Padew. (OFMConv) Gdynia\, Ujejskiego 40\, Gdynia Wzgórze Św. Maksymiliana\, 81-426
CATEGORIES:HARMONOGRAM PEREGRYNACJI,KALENDARIUM
ATTACH;FMTTYPE=image/jpeg:https://wojciech25.pl/wp-content/uploads/2024/09/sw-antoniego-padewskiego-gdynia.jpg
END:VEVENT
END:VCALENDAR