BEGIN:VCALENDAR
VERSION:2.0
PRODID:-//Jubileusz 100-lecia Archidiecezji Gdańskiej &ndash; św. Wojciech &ndash; Zwiastun Nadziei - ECPv6.15.20//NONSGML v1.0//EN
CALSCALE:GREGORIAN
METHOD:PUBLISH
X-WR-CALNAME:Jubileusz 100-lecia Archidiecezji Gdańskiej &ndash; św. Wojciech &ndash; Zwiastun Nadziei
X-ORIGINAL-URL:https://wojciech25.pl
X-WR-CALDESC:Wydarzenia dla Jubileusz 100-lecia Archidiecezji Gdańskiej &ndash; św. Wojciech &ndash; Zwiastun Nadziei
REFRESH-INTERVAL;VALUE=DURATION:PT1H
X-Robots-Tag:noindex
X-PUBLISHED-TTL:PT1H
BEGIN:VTIMEZONE
TZID:Europe/Warsaw
BEGIN:DAYLIGHT
TZOFFSETFROM:+0100
TZOFFSETTO:+0200
TZNAME:CEST
DTSTART:20230326T010000
END:DAYLIGHT
BEGIN:STANDARD
TZOFFSETFROM:+0200
TZOFFSETTO:+0100
TZNAME:CET
DTSTART:20231029T010000
END:STANDARD
BEGIN:DAYLIGHT
TZOFFSETFROM:+0100
TZOFFSETTO:+0200
TZNAME:CEST
DTSTART:20240331T010000
END:DAYLIGHT
BEGIN:STANDARD
TZOFFSETFROM:+0200
TZOFFSETTO:+0100
TZNAME:CET
DTSTART:20241027T010000
END:STANDARD
BEGIN:DAYLIGHT
TZOFFSETFROM:+0100
TZOFFSETTO:+0200
TZNAME:CEST
DTSTART:20250330T010000
END:DAYLIGHT
BEGIN:STANDARD
TZOFFSETFROM:+0200
TZOFFSETTO:+0100
TZNAME:CET
DTSTART:20251026T010000
END:STANDARD
END:VTIMEZONE
BEGIN:VEVENT
DTSTART;VALUE=DATE:20240422
DTEND;VALUE=DATE:20240423
DTSTAMP:20260424T062139
CREATED:20240325T074954Z
LAST-MODIFIED:20240325T104432Z
UID:1644-1713744000-1713830399@wojciech25.pl
SUMMARY:Parafia pw. Niepokalanego Serca Maryi Leśniewo
DESCRIPTION:22 kwietnia 2024 RELIKWIE ŚW. WOJCIECHA W NASZEJ PARAFII.\nSzczegóły na stronie parafialnej i ogłoszeniach. \nParafia pw. Niepokalanego Serca Maryi Leśniewo \nDekanat  ŻARNOWIEC \nAdres: Kościelna 12\, 84-106 Leśniewo\nTelefon: 58 673 89 94\nwww: https://www.diecezja.gda.pl/parafie/421 \nLink Google
URL:https://wojciech25.pl/wpis/parafia-pw-niepokalanego-serca-maryi-lesniewo/
LOCATION:Parafia pw. Niepokalanego Serca Maryi Leśniewo\, Kościelna 12\, Leśniewo\, 84-106
CATEGORIES:HARMONOGRAM PEREGRYNACJI,KALENDARIUM
ATTACH;FMTTYPE=image/jpeg:https://wojciech25.pl/wp-content/uploads/2024/03/Parafia-pw.-Niepokalanego-Serca-Maryi-Lesniewo-ZARNOWIEC.jpg
END:VEVENT
BEGIN:VEVENT
DTSTART;VALUE=DATE:20240421
DTEND;VALUE=DATE:20240422
DTSTAMP:20260424T062139
CREATED:20240325T074954Z
LAST-MODIFIED:20240325T103240Z
UID:1643-1713657600-1713743999@wojciech25.pl
SUMMARY:Parafia pw. św. Maksymiliana Kolbego Strzebielino
DESCRIPTION:21 kwietnia 2024 RELIKWIE ŚW. WOJCIECHA W NASZEJ PARAFII.\nSzczegóły na stronie parafialnej i ogłoszeniach. \nParafia pw. św. Maksymiliana Kolbego Strzebielino \nDekanat  LUZINO \nAdres: Jana Pawła II 10\, 84-220 Strzebielino\nTelefon: 58 676 25 49\nwww: http://www.parafia.strzebielino.eu/ \nLink Google
URL:https://wojciech25.pl/wpis/parafia-pw-sw-maksymiliana-kolbego-strzebielino/
LOCATION:Parafia pw. św. Maksymiliana Kolbego Strzebielino\, Jana Pawła II 10\, Strzebielino\, 84-220
CATEGORIES:HARMONOGRAM PEREGRYNACJI,KALENDARIUM
ATTACH;FMTTYPE=image/jpeg:https://wojciech25.pl/wp-content/uploads/2024/03/Parafia-pw.-sw.-Maksymiliana-Kolbego-Strzebielino.jpg
END:VEVENT
BEGIN:VEVENT
DTSTART;VALUE=DATE:20240420
DTEND;VALUE=DATE:20240421
DTSTAMP:20260424T062139
CREATED:20240325T074954Z
LAST-MODIFIED:20240325T102515Z
UID:1642-1713571200-1713657599@wojciech25.pl
SUMMARY:Parafia pw. św. Jadwigi Kębłowo
DESCRIPTION:20 kwietnia 2024 RELIKWIE ŚW. WOJCIECHA W NASZEJ PARAFII.\nSzczegóły na stronie parafialnej i ogłoszeniach. \nParafia pw. św. Jadwigi Kębłowo \nDekanat  LUZINO \nAdres: Wiejska 52\, 84-242 Kębłowo\nTelefon: 58 678 14 52\nwww: https://www.facebook.com/profile.php?id=100066975788929 \nLink Google
URL:https://wojciech25.pl/wpis/parafia-pw-sw-jadwigi-keblowo/
LOCATION:Parafia pw. św. Jadwigi Kębłowo\, Wiejska 52\, Kębłowo\, 84-242
CATEGORIES:HARMONOGRAM PEREGRYNACJI,KALENDARIUM
ATTACH;FMTTYPE=image/jpeg:https://wojciech25.pl/wp-content/uploads/2024/03/Parafia-pw.-sw.-Jadwigi-Keblowo.jpg
END:VEVENT
BEGIN:VEVENT
DTSTART;VALUE=DATE:20240419
DTEND;VALUE=DATE:20240420
DTSTAMP:20260424T062139
CREATED:20240325T074954Z
LAST-MODIFIED:20240325T102128Z
UID:1641-1713484800-1713571199@wojciech25.pl
SUMMARY:Parafia pw. św. Mateusza Apostoła Góra Pomorska
DESCRIPTION:19 kwietnia 2024 RELIKWIE ŚW. WOJCIECHA W NASZEJ PARAFII.\nSzczegóły na stronie parafialnej i ogłoszeniach. \nParafia pw. św. Mateusza Apostoła Góra Pomorska \nDekanat  LUZINO \nAdres: Księdza Felskiego 1\, 84-252 Góra\nTelefon: +48 58 572 06 00\nwww: https://msze.eu/pomorskie/gora/parafia-pw-sw-mateusza-apostola.html \nLink Google
URL:https://wojciech25.pl/wpis/parafia-pw-sw-mateusza-apostola-gora-pomorska/
LOCATION:Parafia pw. św. Mateusza Apostoła Góra Pomorska\, Księdza Felskiego 1\, Góra\, 84-252
CATEGORIES:HARMONOGRAM PEREGRYNACJI,KALENDARIUM
ATTACH;FMTTYPE=image/webp:https://wojciech25.pl/wp-content/uploads/2024/03/Parafia-pw.-sw.-Mateusza-Apostola-Gora-Pomorska.webp
END:VEVENT
BEGIN:VEVENT
DTSTART;VALUE=DATE:20240418
DTEND;VALUE=DATE:20240419
DTSTAMP:20260424T062139
CREATED:20240325T074954Z
LAST-MODIFIED:20240325T101523Z
UID:1640-1713398400-1713484799@wojciech25.pl
SUMMARY:Parafia MB Nieustającej Pomocy Gościcino
DESCRIPTION:18 kwietnia 2024 RELIKWIE ŚW. WOJCIECHA W NASZEJ PARAFII.\nSzczegóły na stronie parafialnej i ogłoszeniach. \nParafia MB Nieustającej Pomocy Gościcino \nDekanat  LUZINO \nAdres: Słoneczna 17a\, 84-241 Gościcino\nTelefon: 58 672 81 36\nwww: http://www.parafiagoscicino.pl/ \nLink Google
URL:https://wojciech25.pl/wpis/parafia-mb-nieustajacej-pomocy-goscicino/
LOCATION:Parafia MB Nieustającej Pomocy Gościcino LUZINO\, Słoneczna 17a\, Gościcino\, 84-241
CATEGORIES:HARMONOGRAM PEREGRYNACJI,KALENDARIUM
ATTACH;FMTTYPE=image/jpeg:https://wojciech25.pl/wp-content/uploads/2024/03/Parafia-MB-Nieustajacej-Pomocy-Goscicino-LUZINO.jpg
END:VEVENT
BEGIN:VEVENT
DTSTART;VALUE=DATE:20240417
DTEND;VALUE=DATE:20240418
DTSTAMP:20260424T062139
CREATED:20240325T074954Z
LAST-MODIFIED:20240325T095733Z
UID:1639-1713312000-1713398399@wojciech25.pl
SUMMARY:Parafia pw. św. Izydora Gowino
DESCRIPTION:17 kwietnia 2024 RELIKWIE ŚW. WOJCIECHA W NASZEJ PARAFII.\nSzczegóły na stronie parafialnej i ogłoszeniach. \nParafia pw. św. Izydora Gowino \nDekanat  LUZINO \nAdres: Ks. Walentego Dąbrowskiego 1\, 84-215 Gowino\nDekanat: Luzino\nwww: https://www.parafiagowino.pl/ \nLink Google
URL:https://wojciech25.pl/wpis/parafia-pw-sw-izydora-gowino/
LOCATION:Parafia pw. św. Izydora Gowino\, Ks. Walentego Dąbrowskiego 1\, Gowino\, 84-215
CATEGORIES:HARMONOGRAM PEREGRYNACJI,KALENDARIUM
ATTACH;FMTTYPE=image/jpeg:https://wojciech25.pl/wp-content/uploads/2024/03/Parafia-pw.-sw.-Izydora-Gowino-scaled.jpg
END:VEVENT
BEGIN:VEVENT
DTSTART;VALUE=DATE:20240416
DTEND;VALUE=DATE:20240417
DTSTAMP:20260424T062139
CREATED:20240325T074954Z
LAST-MODIFIED:20240325T095306Z
UID:1638-1713225600-1713311999@wojciech25.pl
SUMMARY:Parafia pw. św. Józefa Oblubieńca NMP Sychowo
DESCRIPTION:16 kwietnia 2024 RELIKWIE ŚW. WOJCIECHA W NASZEJ PARAFII.\nSzczegóły na stronie parafialnej i ogłoszeniach. \nParafia pw. św. Józefa Oblubieńca NMP Sychowo \nDekanat  LUZINO \nAdres: Maksymiliana Kolbe 5\, 84-242 Sychowo\nTelefon: 58 678 15 79\nwww: https://www.diecezja.gda.pl/parafie/660 \nLink Google
URL:https://wojciech25.pl/wpis/parafia-pw-sw-jozefa-oblubienca-nmp-sychowo/
LOCATION:Parafia pw. św. Józefa Oblubieńca NMP Sychowo\, Maksymiliana Kolbe 5\, Sychowo\, 84-242
CATEGORIES:HARMONOGRAM PEREGRYNACJI,KALENDARIUM
ATTACH;FMTTYPE=image/jpeg:https://wojciech25.pl/wp-content/uploads/2024/03/Parafia-pw.-sw.-Jozefa-Oblubienca-NMP-Sychowo.jpg
END:VEVENT
BEGIN:VEVENT
DTSTART;VALUE=DATE:20240415
DTEND;VALUE=DATE:20240416
DTSTAMP:20260424T062139
CREATED:20240325T074954Z
LAST-MODIFIED:20240325T094849Z
UID:1637-1713139200-1713225599@wojciech25.pl
SUMMARY:Parafia pw. św. Antoniego Smażyno
DESCRIPTION:15 kwietnia 2024 RELIKWIE ŚW. WOJCIECHA W NASZEJ PARAFII.\nSzczegóły na stronie parafialnej i ogłoszeniach. \nParafia pw. św. Antoniego Smażyno \nDekanat  LUZINO \nAdres: Smażyno 4\, 84-217 Smażyno\nTelefon: 501 394 979\nwww: http://www.parafiasmazyno.pl/ \nLink Google
URL:https://wojciech25.pl/wpis/parafia-pw-sw-antoniego-smazyno/
LOCATION:Parafia pw. św. Antoniego Smażyno\, Smażyno 4\, Smażyno\, 84-217
CATEGORIES:HARMONOGRAM PEREGRYNACJI,KALENDARIUM
ATTACH;FMTTYPE=image/jpeg:https://wojciech25.pl/wp-content/uploads/2024/03/Parafia-pw.-sw.-Antoniego-Smazyno.jpg
END:VEVENT
BEGIN:VEVENT
DTSTART;VALUE=DATE:20240414
DTEND;VALUE=DATE:20240415
DTSTAMP:20260424T062139
CREATED:20240325T074954Z
LAST-MODIFIED:20240325T081808Z
UID:1636-1713052800-1713139199@wojciech25.pl
SUMMARY:Parafia pw. św. Wawrzyńca Luzino
DESCRIPTION:14 kwietnia 2024 RELIKWIE ŚW. WOJCIECHA W NASZEJ PARAFII.\nSzczegóły na stronie parafialnej i ogłoszeniach. \nParafia pw. św. Wawrzyńca Luzino \nDekanat  LUZINO \nAdres: Kościelna 4\, 84-242 Luzino\nTelefon: 58 678 22 64\nwww: http://www.luzino.diecezja.gda.pl/ \nLink Google
URL:https://wojciech25.pl/wpis/parafia-pw-sw-wawrzynca-luzino/
LOCATION:Parafia pw. św. Wawrzyńca Luzino LUZINO\, Kościelna 4\, Luzino\, 84-242
CATEGORIES:HARMONOGRAM PEREGRYNACJI,KALENDARIUM
ATTACH;FMTTYPE=image/jpeg:https://wojciech25.pl/wp-content/uploads/2024/03/Parafia-pw.-sw.-Wawrzynca-Luzino-LUZINO.jpg
END:VEVENT
BEGIN:VEVENT
DTSTART;VALUE=DATE:20240413
DTEND;VALUE=DATE:20240414
DTSTAMP:20260424T062139
CREATED:20240325T074954Z
LAST-MODIFIED:20240325T081547Z
UID:1635-1712966400-1713052799@wojciech25.pl
SUMMARY:Parafia pw. Matki Bożej Różańcowej Luzino
DESCRIPTION:13 kwietnia 2024 RELIKWIE ŚW. WOJCIECHA W NASZEJ PARAFII.\nSzczegóły na stronie parafialnej i ogłoszeniach. \nParafia pw. Matki Bożej Różańcowej Luzino \nDekanat  LUZINO \nAdres: Jana Pawła II 26\, 84-242 Luzino\nTelefon: 58 678 05 05\nwww: https://mbrluzino.pl/ \nLink Google
URL:https://wojciech25.pl/wpis/parafia-pw-matki-bozej-rozancowej-luzino/
LOCATION:Parafia pw. Matki Bożej Różańcowej Luzino\, Jana Pawła II 26\, Luzino\, 84-242
CATEGORIES:HARMONOGRAM PEREGRYNACJI,KALENDARIUM
ATTACH;FMTTYPE=image/jpeg:https://wojciech25.pl/wp-content/uploads/2024/03/Parafia-pw.-Matki-Bozej-Rozancowej-Luzino.jpg
END:VEVENT
BEGIN:VEVENT
DTSTART;VALUE=DATE:20240412
DTEND;VALUE=DATE:20240413
DTSTAMP:20260424T062139
CREATED:20240325T074954Z
LAST-MODIFIED:20240325T081201Z
UID:1634-1712880000-1712966399@wojciech25.pl
SUMMARY:Parafia pw. św. Szymona z Lipnicy Koleczkowo
DESCRIPTION:12 kwietnia 2024 RELIKWIE ŚW. WOJCIECHA W NASZEJ PARAFII.\nSzczegóły na stronie parafialnej i ogłoszeniach. \nParafia pw. św. Szymona z Lipnicy Koleczkowo \nDekanat  KIELNO \nAdres: Partyzantów Kaszubskich 3\, 84-207 Koleczkowo\nTelefon: 695 420 330\nwww: http://www.sw-szymon.pl/ \nLink Google
URL:https://wojciech25.pl/wpis/parafia-pw-sw-szymona-z-lipnicy-koleczkowo/
LOCATION:Parafia pw. św. Szymona z Lipnicy Koleczkowo\, Partyzantów Kaszubskich 3\, Koleczkowo\, 84-207
CATEGORIES:HARMONOGRAM PEREGRYNACJI,KALENDARIUM
ATTACH;FMTTYPE=image/jpeg:https://wojciech25.pl/wp-content/uploads/2024/03/Parafia-pw.-sw.-Szymona-z-Lipnicy-Koleczkowo.jpg
END:VEVENT
BEGIN:VEVENT
DTSTART;VALUE=DATE:20240411
DTEND;VALUE=DATE:20240412
DTSTAMP:20260424T062139
CREATED:20240325T074954Z
LAST-MODIFIED:20240325T080901Z
UID:1633-1712793600-1712879999@wojciech25.pl
SUMMARY:Parafia pw. św. Jadwigi Królowej Bojano
DESCRIPTION:11 kwietnia 2024 RELIKWIE ŚW. WOJCIECHA W NASZEJ PARAFII.\nSzczegóły na stronie parafialnej i ogłoszeniach. \nParafia pw. św. Jadwigi Królowej Bojano \nDekanat  KIELNO \nAdres: Wawelska 1A\, 84-207 Bojano\nTelefon: 58 676 03 20\nwww: https://bojano.diecezja.gda.pl/parafia-%C5%9Bw-jadwigi-kr%C3%B3lowej-w-bojanie \nLink Google
URL:https://wojciech25.pl/wpis/parafia-pw-sw-jadwigi-krolowej-bojano/
LOCATION:Parafia pw. św. Jadwigi Królowej Bojano\, Wawelska 1A\, Bojano\, 84-207
CATEGORIES:HARMONOGRAM PEREGRYNACJI,KALENDARIUM
ATTACH;FMTTYPE=image/jpeg:https://wojciech25.pl/wp-content/uploads/2024/03/Parafia-pw.-sw.-Jadwigi-Krolowej-Bojano.jpg
END:VEVENT
BEGIN:VEVENT
DTSTART;VALUE=DATE:20240410
DTEND;VALUE=DATE:20240411
DTSTAMP:20260424T062139
CREATED:20240325T170236Z
LAST-MODIFIED:20240325T170236Z
UID:1829-1712707200-1712793599@wojciech25.pl
SUMMARY:Parafia pw. św. Wojciecha Kielno
DESCRIPTION:10 kwietnia 2024 RELIKWIE ŚW. WOJCIECHA W NASZEJ PARAFII.\nSzczegóły na stronie parafialnej i ogłoszeniach. \nParafia pw. św. Wojciecha Kielno \nDekanat  KIELNO \nAdres: Jeziorna 6\, 84-208 Kielno\nTelefon: 58 676 07 25\nwww: http://www.parafiakielno.pl/ \nLink Google
URL:https://wojciech25.pl/wpis/parafia-pw-sw-wojciecha-kielno/
LOCATION:Parafia pw. św. Wojciecha Kielno\, Jeziorna 6\, Kielno
CATEGORIES:HARMONOGRAM PEREGRYNACJI,KALENDARIUM
ATTACH;FMTTYPE=image/jpeg:https://wojciech25.pl/wp-content/uploads/2024/03/Parafia-pw.-sw.-Wojciecha-Kielno.jpg
END:VEVENT
BEGIN:VEVENT
DTSTART;VALUE=DATE:20240409
DTEND;VALUE=DATE:20240410
DTSTAMP:20260424T062139
CREATED:20240325T074954Z
LAST-MODIFIED:20240325T080610Z
UID:1631-1712620800-1712707199@wojciech25.pl
SUMMARY:Parafia pw. św. Mikołaja Szemud
DESCRIPTION:9 kwietnia 2024 RELIKWIE ŚW. WOJCIECHA W NASZEJ PARAFII.\nSzczegóły na stronie parafialnej i ogłoszeniach. \nParafia pw. św. Mikołaja Szemud \nDekanat  KIELNO \nAdres: Wejherowska 45\, 84-217 Szemud\nTelefon: 58 676 15 18\nwww: http://www.parafiaszemud.szemud.pl/ \nLink Google
URL:https://wojciech25.pl/wpis/parafia-pw-sw-mikolaja-szemud/
LOCATION:Parafia pw. św. Mikołaja Szemud\, Wejherowska 45\, Szemud\, 84-217
CATEGORIES:HARMONOGRAM PEREGRYNACJI,KALENDARIUM
ATTACH;FMTTYPE=image/jpeg:https://wojciech25.pl/wp-content/uploads/2024/03/Parafia-pw.-sw.-Mikolaja-Szemud-KIELNO.jpg
END:VEVENT
BEGIN:VEVENT
DTSTART;VALUE=DATE:20240408
DTEND;VALUE=DATE:20240409
DTSTAMP:20260424T062139
CREATED:20240325T153822Z
LAST-MODIFIED:20240325T153822Z
UID:1825-1712534400-1712620799@wojciech25.pl
SUMMARY:Parafia pw. MB Królowej Polski Łebno
DESCRIPTION:8 kwietnia 2024 RELIKWIE ŚW. WOJCIECHA W NASZEJ PARAFII.\nSzczegóły na stronie parafialnej i ogłoszeniach. \nParafia pw. MB Królowej Polski Łebno \nDekanat  KIELNO \nAdres: Kartuska 6\, 84-217 Łebno\nTelefon: 58 676 18 01\nwww: https://www.facebook.com/profile.php?id=100070884704800 \nLink Google
URL:https://wojciech25.pl/wpis/parafia-pw-mb-krolowej-polski-lebno/
LOCATION:Parafia pw. MB Królowej Polski Łebno\, Kartuska 6\, Łebno
CATEGORIES:HARMONOGRAM PEREGRYNACJI,KALENDARIUM
ATTACH;FMTTYPE=image/jpeg:https://wojciech25.pl/wp-content/uploads/2024/03/Parafia-pw.-MB-Krolowej-Polski-Lebno.jpg
END:VEVENT
BEGIN:VEVENT
DTSTART;VALUE=DATE:20240407
DTEND;VALUE=DATE:20240408
DTSTAMP:20260424T062139
CREATED:20240325T074954Z
LAST-MODIFIED:20240325T075850Z
UID:1629-1712448000-1712534399@wojciech25.pl
SUMMARY:Parafia pw. św. Józefa Czeczewo
DESCRIPTION:7 kwietnia 2024 RELIKWIE ŚW. WOJCIECHA W NASZEJ PARAFII.\nSzczegóły na stronie parafialnej i ogłoszeniach. \nParafia pw. św. Józefa Czeczewo \nDekanat  KIELNO \nAdres: Gdańska 9\, 84-208 Czeczewo\, Polska\nTelefon: 58 685 14 39\nwww: https://parafiaczeczewo.pl/ \nLink Google
URL:https://wojciech25.pl/wpis/parafia-pw-sw-jozefa-czeczewo/
LOCATION:Parafia pw. św. Józefa Czeczewo\, Gdańska 9\, Czeczewo\, 84-208
CATEGORIES:HARMONOGRAM PEREGRYNACJI,KALENDARIUM
ATTACH;FMTTYPE=image/jpeg:https://wojciech25.pl/wp-content/uploads/2024/03/Parafia-pw.-sw.-Jozefa-Czeczewo-KIELNO.jpg
END:VEVENT
BEGIN:VEVENT
DTSTART;VALUE=DATE:20240406
DTEND;VALUE=DATE:20240407
DTSTAMP:20260424T062139
CREATED:20240325T124324Z
LAST-MODIFIED:20240327T071345Z
UID:1770-1712361600-1712447999@wojciech25.pl
SUMMARY:Parafia pw. św. Ap. Szymona i Judy Tadeusza Chwaszczyno
DESCRIPTION:6 kwietnia 2024 RELIKWIE ŚW. WOJCIECHA W NASZEJ PARAFII.\nSzczegóły na stronie parafialnej i ogłoszeniach. \nParafia pw. św. Ap. Szymona i Judy Tadeusza \nDekanat  KIELNO \nAdres: Żeromskiego 1\, 80-209 Chwaszczyno\nTelefon: 58 552 80 83\nwww: http://www.chwaszczyno.diecezja.gda.pl/ \nLink Google \n 
URL:https://wojciech25.pl/wpis/parafia-pw-sw-ap-szymona-i-judy-tadeusza/
LOCATION:Parafia pw. św. Ap. Szymona i Judy Tadeusza\, Żeromskiego 1\, Chwaszczyno
CATEGORIES:HARMONOGRAM PEREGRYNACJI,KALENDARIUM
ATTACH;FMTTYPE=image/jpeg:https://wojciech25.pl/wp-content/uploads/2024/03/Parafia-pw.-sw.-Ap.-Szymona-i-Judy-Tadeusza-Chwaszczyno.jpg
END:VEVENT
BEGIN:VEVENT
DTSTART;VALUE=DATE:20240405
DTEND;VALUE=DATE:20240406
DTSTAMP:20260424T062139
CREATED:20240312T073646Z
LAST-MODIFIED:20240312T073646Z
UID:1348-1712275200-1712361599@wojciech25.pl
SUMMARY:Parafia pw. NMP Wspomożycielki Wiernych Skrzeszewo
DESCRIPTION:5 kwietnia 2024 RELIKWIE ŚW. WOJCIECHA W NASZEJ PARAFII.\nSzczegóły na stronie parafialnej i ogłoszeniach. \nParafia pw. NMP Wspomożycielki Wiernych Skrzeszewo \nDekanat  ŻUKOWO \nAdres: Skrzeszewo Żukowskie 80\, 83-330 Skrzeszewo Żukowskie\nTelefon: 58 685 82 78\nwww: https://www.facebook.com/p/Parafia-NMP-Wspomo%C5%BCycielki-Wiernych-w-Skrzeszewie-100071059616983/ \nLink Google
URL:https://wojciech25.pl/wpis/parafia-pw-nmp-wspomozycielki-wiernych-skrzeszewo/
LOCATION:Parafia pw. NMP Wspomożycielki Wiernych Skrzeszewo ŻUKOWO\, Skrzeszewo Żukowskie 80\, Skrzeszewo Żukowskie
CATEGORIES:HARMONOGRAM PEREGRYNACJI,KALENDARIUM
ATTACH;FMTTYPE=image/jpeg:https://wojciech25.pl/wp-content/uploads/2024/03/Parafia-pw.-NMP-Wspomozycielki-Wiernych-Skrzeszewo-ZUKOWO.jpg
END:VEVENT
BEGIN:VEVENT
DTSTART;VALUE=DATE:20240404
DTEND;VALUE=DATE:20240405
DTSTAMP:20260424T062139
CREATED:20240312T073646Z
LAST-MODIFIED:20240312T073646Z
UID:1347-1712188800-1712275199@wojciech25.pl
SUMMARY:Parafia pw. św. Jana Ewangelisty Przyjaźń
DESCRIPTION:4 kwietnia 2024 RELIKWIE ŚW. WOJCIECHA W NASZEJ PARAFII.\nSzczegóły na stronie parafialnej i ogłoszeniach. \nParafia pw. św. Jana Ewangelisty Przyjaźń \nDekanat  ŻUKOWO \nAdres: Spacerowa 1\, 83-331 Przyjaźń\nTelefon: 58 681 80 22\nwww: https://www.parafiaprzyjazn.com/
URL:https://wojciech25.pl/wpis/parafia-pw-sw-jana-ewangelisty-przyjazn/
LOCATION:Parafia pw. św. Jana Ewangelisty Przyjaźń ŻUKOWO\, Spacerowa 1\, Przyjaźń\, 83-331
CATEGORIES:HARMONOGRAM PEREGRYNACJI,KALENDARIUM
ATTACH;FMTTYPE=image/jpeg:https://wojciech25.pl/wp-content/uploads/2024/03/Parafia-pw.-sw.-Jana-Ewangelisty-Przyjazn-ZUKOWO.jpg
END:VEVENT
BEGIN:VEVENT
DTSTART;VALUE=DATE:20240403
DTEND;VALUE=DATE:20240404
DTSTAMP:20260424T062139
CREATED:20240312T073645Z
LAST-MODIFIED:20240312T073645Z
UID:1346-1712102400-1712188799@wojciech25.pl
SUMMARY:Parafia pw. Najśw. Serca Pana Jezusa Niestępowo
DESCRIPTION:3 kwietnia 2024 RELIKWIE ŚW. WOJCIECHA W NASZEJ PARAFII.\nSzczegóły na stronie parafialnej i ogłoszeniach. \nParafia pw. Najśw. Serca Pana Jezusa Niestępowo \nDekanat  ŻUKOWO \nAdres: Raduńska 86\, 83-331 Niestępowo\nTelefon: 692 429 776\nwww: http://parafia-niestepowo.pl/
URL:https://wojciech25.pl/wpis/parafia-pw-najsw-serca-pana-jezusa-niestepowo/
LOCATION:Parafia pw. Najśw. Serca Pana Jezusa Niestępowo ŻUKOWO\, Raduńska 86\, Niestępowo
CATEGORIES:HARMONOGRAM PEREGRYNACJI,KALENDARIUM
ATTACH;FMTTYPE=image/jpeg:https://wojciech25.pl/wp-content/uploads/2024/03/Parafia-pw.-Najsw.-Serca-Pana-Jezusa-Niestepowo-ZUKOWO.jpg
END:VEVENT
BEGIN:VEVENT
DTSTART;VALUE=DATE:20240323
DTEND;VALUE=DATE:20240324
DTSTAMP:20260424T062139
CREATED:20240312T073645Z
LAST-MODIFIED:20240312T073645Z
UID:1345-1711152000-1711238399@wojciech25.pl
SUMMARY:Parafia pw. św. Stanisława Bp. Leźno
DESCRIPTION:23 marca 2024 RELIKWIE ŚW. WOJCIECHA W NASZEJ PARAFII.\nSzczegóły na stronie parafialnej i ogłoszeniach. \nParafia pw. św. Stanisława Bp. Leźno \nDekanat  ŻUKOWO \nAdres: Aleja Lipowa 23\, 80-298 Leźno\nTelefon: 696 417 236\nwww: http://www.parafia-lezno.pl/ \nLink Google
URL:https://wojciech25.pl/wpis/parafia-pw-sw-stanislawa-bp-lezno/
LOCATION:Parafia pw. św. Stanisława Bp. Leźno ŻUKOWO\, Aleja Lipowa 23\, Leźno
CATEGORIES:HARMONOGRAM PEREGRYNACJI,KALENDARIUM
ATTACH;FMTTYPE=image/jpeg:https://wojciech25.pl/wp-content/uploads/2024/03/Parafia-pw.-sw.-Stanislawa-Bp.-Lezno-ZUKOWO.jpg
END:VEVENT
BEGIN:VEVENT
DTSTART;VALUE=DATE:20240322
DTEND;VALUE=DATE:20240323
DTSTAMP:20260424T062139
CREATED:20240312T073645Z
LAST-MODIFIED:20240312T073645Z
UID:1344-1711065600-1711151999@wojciech25.pl
SUMMARY:Parafia pw. Niepokalanego Poczęcia Maryi Banino
DESCRIPTION:22 marca 2024 RELIKWIE ŚW. WOJCIECHA W NASZEJ PARAFII.\nSzczegóły na stronie parafialnej i ogłoszeniach. \nParafia pw. Niepokalanego Poczęcia Maryi Banino \nDekanat  ŻUKOWO \nAdres: Lotnicza 30\, 80-297 Banino\nTelefon: 58 681 89 29\nwww: http://www.parafiabanino.pl/
URL:https://wojciech25.pl/wpis/parafia-pw-niepokalanego-poczecia-maryi-banino/
LOCATION:Parafia pw. Niepokalanego Poczęcia Maryi Banino ŻUKOWO\, Lotnicza 30\, Banino
CATEGORIES:HARMONOGRAM PEREGRYNACJI,KALENDARIUM
ATTACH;FMTTYPE=image/jpeg:https://wojciech25.pl/wp-content/uploads/2024/03/Parafia-pw.-Niepokalanego-Poczecia-Maryi-Banino-ZUKOWO.jpg
END:VEVENT
BEGIN:VEVENT
DTSTART;VALUE=DATE:20240321
DTEND;VALUE=DATE:20240322
DTSTAMP:20260424T062139
CREATED:20240312T073645Z
LAST-MODIFIED:20240312T073645Z
UID:1343-1710979200-1711065599@wojciech25.pl
SUMMARY:Parafia pw. Miłosierdzia Bożego Żukowo
DESCRIPTION:21 marca 2024 RELIKWIE ŚW. WOJCIECHA W NASZEJ PARAFII.\nSzczegóły na stronie parafialnej i ogłoszeniach. \nParafia pw. Miłosierdzia Bożego Żukowo \nDekanat  ŻUKOWO \nAdres: Siostry Faustyny 1\, 83-330 Żukowo\nTelefon: 58 685 86 84\nwww: https://mb.diecezja.gda.pl/ \nLink Google
URL:https://wojciech25.pl/wpis/parafia-pw-milosierdzia-bozego-zukowo/
LOCATION:Parafia pw. Miłosierdzia Bożego Żukowo\, Siostry Faustyny 1\, Żukowo\, 83-330
CATEGORIES:HARMONOGRAM PEREGRYNACJI,KALENDARIUM
ATTACH;FMTTYPE=image/jpeg:https://wojciech25.pl/wp-content/uploads/2024/03/Parafia-pw.-Milosierdzia-Bozego-Zukowo-ZUKOWO.jpg
END:VEVENT
BEGIN:VEVENT
DTSTART;VALUE=DATE:20240320
DTEND;VALUE=DATE:20240321
DTSTAMP:20260424T062139
CREATED:20240312T073645Z
LAST-MODIFIED:20240312T073645Z
UID:1342-1710892800-1710979199@wojciech25.pl
SUMMARY:Parafia pw. Wniebowzięcia NMP Żukowo
DESCRIPTION:20 marca 2024 RELIKWIE ŚW. WOJCIECHA W NASZEJ PARAFII.\nSzczegóły na stronie parafialnej i ogłoszeniach. \nParafia pw. Wniebowzięcia NMP Żukowo \nDekanat  ŻUKOWO \nAdres: 3 Maja 4\, 83-330 Żukowo\nTelefon: 58 681 82 42\nwww: https://www.facebook.com/wnmpzukowo/?locale=pl_PL
URL:https://wojciech25.pl/wpis/parafia-pw-wniebowziecia-nmp-zukowo/
LOCATION:Parafia pw. Wniebowzięcia NMP Żukowo ŻUKOWO\, 3 Maja 4\, Żukowo
CATEGORIES:HARMONOGRAM PEREGRYNACJI,KALENDARIUM
ATTACH;FMTTYPE=image/jpeg:https://wojciech25.pl/wp-content/uploads/2024/03/Parafia-pw.-Wniebowziecia-NMP-Zukowo-ZUKOWO.jpg
END:VEVENT
BEGIN:VEVENT
DTSTART;VALUE=DATE:20240319
DTEND;VALUE=DATE:20240320
DTSTAMP:20260424T062139
CREATED:20240312T073645Z
LAST-MODIFIED:20240312T073645Z
UID:1341-1710806400-1710892799@wojciech25.pl
SUMMARY:Parafia pw. św. Józefa Pomieczyno
DESCRIPTION:19 marca 2024 RELIKWIE ŚW. WOJCIECHA W NASZEJ PARAFII.\nSzczegóły na stronie parafialnej i ogłoszeniach. \nParafia pw. św. Józefa Pomieczyno \nDekanat  ŻUKOWO \nAdres: Kartuska 8\, 83-305 Pomieczyno\nTelefon: 58 681 50 22\nwww: https://www.facebook.com/p/Parafia-pw-%C5%9Awi%C4%99tego-J%C3%B3zefa-w-Pomieczynie-100069766104769/
URL:https://wojciech25.pl/wpis/parafia-pw-sw-jozefa-pomieczyno/
LOCATION:Parafia pw. św. Józefa Pomieczyno\, Kartuska 8\, Pomieczyno\, 83-305
CATEGORIES:HARMONOGRAM PEREGRYNACJI,KALENDARIUM
ATTACH;FMTTYPE=image/jpeg:https://wojciech25.pl/wp-content/uploads/2024/03/Parafia-pw.-sw.-Jozefa-Pomieczyno-ZUKOWO.jpeg
END:VEVENT
BEGIN:VEVENT
DTSTART;VALUE=DATE:20240318
DTEND;VALUE=DATE:20240319
DTSTAMP:20260424T062139
CREATED:20240301T100504Z
LAST-MODIFIED:20240306T151642Z
UID:1340-1710720000-1710806399@wojciech25.pl
SUMMARY:Parafia pw. MB Fatimskiej N. Wieś Przywidzka
DESCRIPTION:18 marca 2024 RELIKWIE ŚW. WOJCIECHA W NASZEJ PARAFII.\nSzczegóły na stronie parafialnej i ogłoszeniach. \nParafia pw. MB Fatimskiej N. Wieś Przywidzka \nDekanat  KOLBUDY \nAdres: Piastowska 33\, 83-047 Nowa Wieś Przywidzka\nTelefon: 58 691 50 84\nwww: https://parafie.net/parafia-matki-boskiej-fatimskiej-nowa-wies-przywidzka/
URL:https://wojciech25.pl/wpis/parafia-pw-mb-fatimskiej-n-wies-przywidzka/
LOCATION:Parafia pw. MB Fatimskiej N. Wieś Przywidzka KOLBUDY\, Piastowska 33\, Nowa Wieś Przywidzka
CATEGORIES:HARMONOGRAM PEREGRYNACJI,KALENDARIUM
ATTACH;FMTTYPE=image/jpeg:https://wojciech25.pl/wp-content/uploads/2024/03/Parafia-pw.-MB-Fatimskiej-N.-Wies-Przywidzka-KOLBUDY.jpg
END:VEVENT
BEGIN:VEVENT
DTSTART;VALUE=DATE:20240317
DTEND;VALUE=DATE:20240318
DTSTAMP:20260424T062139
CREATED:20240301T100504Z
LAST-MODIFIED:20240306T151344Z
UID:1339-1710633600-1710719999@wojciech25.pl
SUMMARY:Parafia pw. św. Franciszka Ksawerego Przywidz
DESCRIPTION:17 marca 2024 RELIKWIE ŚW. WOJCIECHA W NASZEJ PARAFII.\nSzczegóły na stronie parafialnej i ogłoszeniach. \nParafia pw. św. Franciszka Ksawerego Przywidz \nDekanat  KOLBUDY \nAdres: Gdańska 20\, 83-047 Przywidz\nTelefon: 58 682 52 21\nwww: https://parafiaprzywidz.pl/ \nLink Google
URL:https://wojciech25.pl/wpis/parafia-pw-sw-franciszka-ksawerego-przywidz/
LOCATION:Parafia pw. św. Franciszka Ksawerego Przywidz KOLBUDY\, Gdańska 20\, Przywidz
CATEGORIES:HARMONOGRAM PEREGRYNACJI,KALENDARIUM
ATTACH;FMTTYPE=image/jpeg:https://wojciech25.pl/wp-content/uploads/2024/03/Parafia-pw.-sw.-Franciszka-Ksawerego-Przywidz-KOLBUDY.jpg
END:VEVENT
BEGIN:VEVENT
DTSTART;VALUE=DATE:20240316
DTEND;VALUE=DATE:20240317
DTSTAMP:20260424T062139
CREATED:20240301T100504Z
LAST-MODIFIED:20240306T150959Z
UID:1338-1710547200-1710633599@wojciech25.pl
SUMMARY:Parafia pw. Macierzyństwa NMP Jodłowno
DESCRIPTION:16 marca 2024 RELIKWIE ŚW. WOJCIECHA W NASZEJ PARAFII.\nSzczegóły na stronie parafialnej i ogłoszeniach. \nParafia pw. Macierzyństwa NMP Jodłowno \nDekanat  KOLBUDY \nAdres: Kasztanowa 4\, 83-047 Jodłowno\nTelefon: +48 58 682 52 21\nwww: https://www.nmpjodlowno.pl/
URL:https://wojciech25.pl/wpis/parafia-pw-macierzynstwa-nmp-jodlowno/
LOCATION:Parafia pw. Macierzyństwa NMP Jodłowno
CATEGORIES:HARMONOGRAM PEREGRYNACJI,KALENDARIUM
ATTACH;FMTTYPE=image/jpeg:https://wojciech25.pl/wp-content/uploads/2024/03/Parafia-pw.-Macierzynstwa-NMP-Jodlowno-KOLBUDY.jpg
END:VEVENT
BEGIN:VEVENT
DTSTART;VALUE=DATE:20240315
DTEND;VALUE=DATE:20240316
DTSTAMP:20260424T062139
CREATED:20240301T100504Z
LAST-MODIFIED:20240306T150415Z
UID:1337-1710460800-1710547199@wojciech25.pl
SUMMARY:Parafia pw. św. Mikołaja Czapielsk
DESCRIPTION:15 marca 2024 RELIKWIE ŚW. WOJCIECHA W NASZEJ PARAFII.\nSzczegóły na stronie parafialnej i ogłoszeniach. \nParafia pw. św. Mikołaja Czapielsk \nDekanat  KOLBUDY \nAdres: Słonecznikowa 42\, 83-050 Czapielsk\nTelefon: 606 350 883\nwww: https://parafiaczapielsk.pl/
URL:https://wojciech25.pl/wpis/parafia-pw-sw-mikolaja-czapielsk/
LOCATION:Parafia pw. św. Mikołaja Czapielsk KOLBUDY\, Słonecznikowa 42\, Czapielsk
CATEGORIES:HARMONOGRAM PEREGRYNACJI,KALENDARIUM
ATTACH;FMTTYPE=image/jpeg:https://wojciech25.pl/wp-content/uploads/2024/03/Parafia-pw.-sw.-Mikolaja-Czapielsk-KOLBUDY.jpg
END:VEVENT
BEGIN:VEVENT
DTSTART;VALUE=DATE:20240314
DTEND;VALUE=DATE:20240315
DTSTAMP:20260424T062139
CREATED:20240301T100504Z
LAST-MODIFIED:20240306T150014Z
UID:1336-1710374400-1710460799@wojciech25.pl
SUMMARY:Parafia pw. Bożego Ciała Pręgowo
DESCRIPTION:14 marca 2024 RELIKWIE ŚW. WOJCIECHA W NASZEJ PARAFII.\nSzczegóły na stronie parafialnej i ogłoszeniach. \nParafia pw. Bożego Ciała Pręgowo \nDekanat  KOLBUDY \nAdres: Kościelna 3\, 83-050 Pręgowo\nTelefon: +48 517 987 210\nwww: http://www.pregowo-parafia.net/index.php \nLink Google
URL:https://wojciech25.pl/wpis/parafia-pw-bozego-ciala-pregowo/
LOCATION:Parafia pw. Bożego Ciała Pręgowo KOLBUDY\, Kościelna 3\, Pręgowo\, 83-050
CATEGORIES:HARMONOGRAM PEREGRYNACJI,KALENDARIUM
ATTACH;FMTTYPE=image/jpeg:https://wojciech25.pl/wp-content/uploads/2024/03/Parafia-pw.-Bozego-Ciala-Pregowo-KOLBUDY.jpg
END:VEVENT
END:VCALENDAR