BEGIN:VCALENDAR
VERSION:2.0
PRODID:-//Jubileusz 100-lecia Archidiecezji Gdańskiej &ndash; św. Wojciech &ndash; Zwiastun Nadziei - ECPv6.15.20//NONSGML v1.0//EN
CALSCALE:GREGORIAN
METHOD:PUBLISH
X-ORIGINAL-URL:https://wojciech25.pl
X-WR-CALDESC:Wydarzenia dla Jubileusz 100-lecia Archidiecezji Gdańskiej &ndash; św. Wojciech &ndash; Zwiastun Nadziei
REFRESH-INTERVAL;VALUE=DURATION:PT1H
X-Robots-Tag:noindex
X-PUBLISHED-TTL:PT1H
BEGIN:VTIMEZONE
TZID:Europe/Warsaw
BEGIN:DAYLIGHT
TZOFFSETFROM:+0100
TZOFFSETTO:+0200
TZNAME:CEST
DTSTART:20230326T010000
END:DAYLIGHT
BEGIN:STANDARD
TZOFFSETFROM:+0200
TZOFFSETTO:+0100
TZNAME:CET
DTSTART:20231029T010000
END:STANDARD
BEGIN:DAYLIGHT
TZOFFSETFROM:+0100
TZOFFSETTO:+0200
TZNAME:CEST
DTSTART:20240331T010000
END:DAYLIGHT
BEGIN:STANDARD
TZOFFSETFROM:+0200
TZOFFSETTO:+0100
TZNAME:CET
DTSTART:20241027T010000
END:STANDARD
BEGIN:DAYLIGHT
TZOFFSETFROM:+0100
TZOFFSETTO:+0200
TZNAME:CEST
DTSTART:20250330T010000
END:DAYLIGHT
BEGIN:STANDARD
TZOFFSETFROM:+0200
TZOFFSETTO:+0100
TZNAME:CET
DTSTART:20251026T010000
END:STANDARD
END:VTIMEZONE
BEGIN:VEVENT
DTSTART;VALUE=DATE:20240523
DTEND;VALUE=DATE:20240524
DTSTAMP:20260424T014540
CREATED:20240424T123104Z
LAST-MODIFIED:20240424T123104Z
UID:1671-1716422400-1716508799@wojciech25.pl
SUMMARY:Parafia pw. św. Krzyża Rumia
DESCRIPTION:23 maja 2024 RELIKWIE ŚW. WOJCIECHA W NASZEJ PARAFII.\nSzczegóły na stronie parafialnej i ogłoszeniach. \nParafia pw. św. Krzyża Rumia \nDekanat  REDA \nAdres: Kościelna 20\, 84-230 Rumia\nTelefon: 58 671 01 10\nwww: https://www.rumiakrzyz.pl/ \nLink Google
URL:https://wojciech25.pl/wpis/parafia-pw-sw-krzyza-rumia/
LOCATION:Parafia pw. św. Krzyża Rumia\, Kościelna 20\, Rumia
CATEGORIES:HARMONOGRAM PEREGRYNACJI,KALENDARIUM
ATTACH;FMTTYPE=image/jpeg:https://wojciech25.pl/wp-content/uploads/2024/03/Parafia-pw.-sw.-Krzyza-Rumia.jpg
END:VEVENT
BEGIN:VEVENT
DTSTART;VALUE=DATE:20240522
DTEND;VALUE=DATE:20240523
DTSTAMP:20260424T014540
CREATED:20240424T123104Z
LAST-MODIFIED:20240424T123104Z
UID:1670-1716336000-1716422399@wojciech25.pl
SUMMARY:Parafia pw. bł. Edmunda Bojanowskiego Rumia
DESCRIPTION:22 maja 2024 RELIKWIE ŚW. WOJCIECHA W NASZEJ PARAFII.\nSzczegóły na stronie parafialnej i ogłoszeniach. \nParafia pw. bł. Edmunda Bojanowskiego Rumia \nDekanat  REDA \nAdres: bł. Edmunda Bojanowskiego 1\, 84-230 Rumia\nTelefon: 58 771 24 77\nwww: http://www.rumiabojanowski.pl/ \nLink Google
URL:https://wojciech25.pl/wpis/parafia-pw-bl-edmunda-bojanowskiego-rumia/
LOCATION:Parafia pw. bł. Edmunda Bojanowskiego Rumia\, bł. Edmunda Bojanowskiego 1\, Rumia
CATEGORIES:HARMONOGRAM PEREGRYNACJI,KALENDARIUM
ATTACH;FMTTYPE=image/jpeg:https://wojciech25.pl/wp-content/uploads/2024/03/Parafia-pw.-bl.-Edmunda-Bojanowskiego-Rumia.jpg
END:VEVENT
BEGIN:VEVENT
DTSTART;VALUE=DATE:20240521
DTEND;VALUE=DATE:20240522
DTSTAMP:20260424T014540
CREATED:20240424T123104Z
LAST-MODIFIED:20240424T123104Z
UID:1669-1716249600-1716335999@wojciech25.pl
SUMMARY:Parafia pw. NMP Wspomożenia Wiernych Rumia
DESCRIPTION:21 maja 2024 RELIKWIE ŚW. WOJCIECHA W NASZEJ PARAFII.\nSzczegóły na stronie parafialnej i ogłoszeniach. \nParafia pw. NMP Wspomożenia Wiernych Rumia \nDekanat  REDA \nAdres: Generała Henryka Dąbrowskiego 26\, 84-230 Rumia\nTelefon: 58 671 01 11\nwww: http://rumia.esalezjanie.pl/ \nLink Google
URL:https://wojciech25.pl/wpis/parafia-pw-nmp-wspomozenia-wiernych-rumia/
LOCATION:Parafia pw. NMP Wspomożenia Wiernych Rumia\, Generała Henryka Dąbrowskiego 26\, Rumia
CATEGORIES:HARMONOGRAM PEREGRYNACJI,KALENDARIUM
ATTACH;FMTTYPE=image/jpeg:https://wojciech25.pl/wp-content/uploads/2024/03/Parafia-pw.-NMP-Wspomozenia-Wiernych-Rumia.jpg
END:VEVENT
BEGIN:VEVENT
DTSTART;VALUE=DATE:20240520
DTEND;VALUE=DATE:20240521
DTSTAMP:20260424T014540
CREATED:20240424T123104Z
LAST-MODIFIED:20240424T123104Z
UID:1668-1716163200-1716249599@wojciech25.pl
SUMMARY:Parafia pw. św. Józefa i św. Judy Tadeusza Rumia-Zagórze
DESCRIPTION:20 maja 2024 RELIKWIE ŚW. WOJCIECHA W NASZEJ PARAFII.\nSzczegóły na stronie parafialnej i ogłoszeniach. \nParafia pw. św. Józefa i św. Judy Tadeusza Rumia-Zagórze \nDekanat  REDA \nAdres: Podgórna 1\, 84-230 Rumia\nTelefon: 58 671 16 05\nwww: https://parafiarumiazagorze.pl/ \nLink Google
URL:https://wojciech25.pl/wpis/parafia-pw-sw-jozefa-i-sw-judy-tadeusza-rumia-zagorze/
LOCATION:Parafia pw. św. Józefa i św. Judy Tadeusza Rumia-Zagórze\, Podgórna 1\, Rumia
CATEGORIES:HARMONOGRAM PEREGRYNACJI,KALENDARIUM
ATTACH;FMTTYPE=image/jpeg:https://wojciech25.pl/wp-content/uploads/2024/03/Parafia-pw.-sw.-Jozefa-i-sw.-Judy-Tadeusza-Rumia-Zagorze.jpg
END:VEVENT
BEGIN:VEVENT
DTSTART;VALUE=DATE:20240519
DTEND;VALUE=DATE:20240520
DTSTAMP:20260424T014540
CREATED:20240424T123104Z
LAST-MODIFIED:20240424T123104Z
UID:1667-1716076800-1716163199@wojciech25.pl
SUMMARY:Parafia pw. Narodzenia NMP Swarzewo
DESCRIPTION:19 maja 2024 RELIKWIE ŚW. WOJCIECHA W NASZEJ PARAFII.\nSzczegóły na stronie parafialnej i ogłoszeniach. \nParafia pw. Narodzenia NMP Swarzewo \nDekanat  PUCK \nAdres: ks\, Pronobisa 6\, 84-100 Swarzewo\nTelefon: 58 674 12 08\nwww: https://www.parafiaswarzewo.com.pl/ \nLink Google
URL:https://wojciech25.pl/wpis/parafia-pw-narodzenia-nmp-swarzewo/
LOCATION:Parafia pw. Narodzenia NMP Swarzewo\, ks\, Pronobisa 6\, Swarzewo
CATEGORIES:HARMONOGRAM PEREGRYNACJI,KALENDARIUM
ATTACH;FMTTYPE=image/jpeg:https://wojciech25.pl/wp-content/uploads/2024/03/Parafia-pw.-Narodzenia-NMP-Swarzewo.jpg
END:VEVENT
BEGIN:VEVENT
DTSTART;VALUE=DATE:20240518
DTEND;VALUE=DATE:20240519
DTSTAMP:20260424T014540
CREATED:20240424T123104Z
LAST-MODIFIED:20240424T123104Z
UID:1666-1715990400-1716076799@wojciech25.pl
SUMMARY:Parafia pw. św. Faustyny Kowalskiej Puck
DESCRIPTION:18 maja 2024 RELIKWIE ŚW. WOJCIECHA W NASZEJ PARAFII.\nSzczegóły na stronie parafialnej i ogłoszeniach. \nParafia pw. św. Faustyny Kowalskiej Puck \nDekanat  PUCK \nAdres: Swarzewska 84\, 84-100 Puck\nTelefon: 723 967 551\nwww: https://przystanmilosierdzia.pl/ \nLink Google
URL:https://wojciech25.pl/wpis/parafia-pw-sw-faustyny-kowalskiej-puck/
LOCATION:Parafia pw. św. Faustyny Kowalskiej Puck\, Swarzewska 84\, Puck
CATEGORIES:HARMONOGRAM PEREGRYNACJI,KALENDARIUM
ATTACH;FMTTYPE=image/jpeg:https://wojciech25.pl/wp-content/uploads/2024/03/Parafia-pw.-sw.-Faustyny-Kowalskiej-Puck.jpg
END:VEVENT
BEGIN:VEVENT
DTSTART;VALUE=DATE:20240517
DTEND;VALUE=DATE:20240518
DTSTAMP:20260424T014540
CREATED:20240424T123104Z
LAST-MODIFIED:20240424T123104Z
UID:1665-1715904000-1715990399@wojciech25.pl
SUMMARY:Parafia pw. św. Marcina Łebcz
DESCRIPTION:17 maja 2024 RELIKWIE ŚW. WOJCIECHA W NASZEJ PARAFII.\nSzczegóły na stronie parafialnej i ogłoszeniach. \nParafia pw. św. Marcina Łebcz \nDekanat  PUCK \nAdres: ks. Wielewskiego 2\, 84-103 Łebcz\nTelefon: 58 673 83 21\nwww: https://www.diecezja.gda.pl/parafie/471 \nLink Google
URL:https://wojciech25.pl/wpis/parafia-pw-sw-marcina-lebcz/
LOCATION:Parafia pw. św. Marcina Łebcz\, Wielewskiego 2\, Łebcz
CATEGORIES:HARMONOGRAM PEREGRYNACJI,KALENDARIUM
ATTACH;FMTTYPE=image/jpeg:https://wojciech25.pl/wp-content/uploads/2024/03/Parafia-pw.-sw.-Marcina-Lebcz.jpg
END:VEVENT
BEGIN:VEVENT
DTSTART;VALUE=DATE:20240516
DTEND;VALUE=DATE:20240517
DTSTAMP:20260424T014540
CREATED:20240424T123102Z
LAST-MODIFIED:20240424T123102Z
UID:1664-1715817600-1715903999@wojciech25.pl
SUMMARY:Parafia pw. św. Marii Magdaleny Strzelno
DESCRIPTION:16 maja 2024 RELIKWIE ŚW. WOJCIECHA W NASZEJ PARAFII.\nSzczegóły na stronie parafialnej i ogłoszeniach. \nParafia pw. św. Marii Magdaleny Strzelno \nDekanat  PUCK \nAdres: Kasztanowa 6\, 84-103 Strzelno\nTelefon: 58 673 83 87\nwww: https://parafiastrzelno.gda.pl/ \nLink Google
URL:https://wojciech25.pl/wpis/parafia-pw-sw-marii-magdaleny-strzelno/
LOCATION:Parafia pw. św. Marii Magdaleny Strzelno\, Kasztanowa 6\, Strzelno
CATEGORIES:HARMONOGRAM PEREGRYNACJI,KALENDARIUM
ATTACH;FMTTYPE=image/jpeg:https://wojciech25.pl/wp-content/uploads/2024/03/Parafia-pw.-sw.-Marii-Magdaleny-Strzelno.jpg
END:VEVENT
BEGIN:VEVENT
DTSTART;VALUE=DATE:20240515
DTEND;VALUE=DATE:20240516
DTSTAMP:20260424T014540
CREATED:20240424T123102Z
LAST-MODIFIED:20240424T123102Z
UID:1663-1715731200-1715817599@wojciech25.pl
SUMMARY:Parafia pw. św. Jakuba Ap. i św. Mikołaja Mechowo
DESCRIPTION:15 maja 2024 RELIKWIE ŚW. WOJCIECHA W NASZEJ PARAFII.\nSzczegóły na stronie parafialnej i ogłoszeniach. \nParafia pw. św. Jakuba Ap. i św. Mikołaja Mechowo \nDekanat  PUCK \nAdres: Cystersów 15\, 84-106 Mechowo\nTelefon: 58 673 89 79\nwww: https://www.diecezja.gda.pl/parafie/470 \nLink Google
URL:https://wojciech25.pl/wpis/parafia-pw-sw-jakuba-ap-i-sw-mikolaja-mechowo/
LOCATION:Parafia pw. św. Jakuba Ap. i św. Mikołaja Mechowo\, Cystersów 15\, Mechowo
CATEGORIES:HARMONOGRAM PEREGRYNACJI,KALENDARIUM
ATTACH;FMTTYPE=image/jpeg:https://wojciech25.pl/wp-content/uploads/2024/03/Parafia-pw.-sw.-Jakuba-Ap.-i-sw.-Mikolaja-Mechowo.jpg
END:VEVENT
BEGIN:VEVENT
DTSTART;VALUE=DATE:20240514
DTEND;VALUE=DATE:20240515
DTSTAMP:20260424T014540
CREATED:20240424T123103Z
LAST-MODIFIED:20240424T123103Z
UID:1662-1715644800-1715731199@wojciech25.pl
SUMMARY:Parafia pw. Najśw. Serca P.J. Żelistrzewo
DESCRIPTION:14 maja 2024 RELIKWIE ŚW. WOJCIECHA W NASZEJ PARAFII.\nSzczegóły na stronie parafialnej i ogłoszeniach. \nParafia pw. Najśw. Serca P.J. Żelistrzewo \nDekanat  PUCK \nAdres: Kasztanowa 2\, 84-100 Żelistrzewo\nTelefon: 885 738 628\nwww: https://www.diecezja.gda.pl/parafie/466 \nLink Google
URL:https://wojciech25.pl/wpis/parafia-pw-najsw-serca-p-j-zelistrzewo/
LOCATION:Parafia pw. Najśw. Serca P.J. Żelistrzewo\, Kasztanowa 2\, Żelistrzewo
CATEGORIES:HARMONOGRAM PEREGRYNACJI,KALENDARIUM
ATTACH;FMTTYPE=image/jpeg:https://wojciech25.pl/wp-content/uploads/2024/03/Parafia-pw.-Najsw.-Serca-P.J.-Zelistrzewo.jpg
END:VEVENT
BEGIN:VEVENT
DTSTART;VALUE=DATE:20240513
DTEND;VALUE=DATE:20240514
DTSTAMP:20260424T014540
CREATED:20240424T123103Z
LAST-MODIFIED:20240424T123103Z
UID:1661-1715558400-1715644799@wojciech25.pl
SUMMARY:Parafia pw. św. Aniołów Stróżów Mrzezino
DESCRIPTION:13 maja 2024 RELIKWIE ŚW. WOJCIECHA W NASZEJ PARAFII.\nSzczegóły na stronie parafialnej i ogłoszeniach. \nParafia pw. św. Aniołów Stróżów Mrzezino \nDekanat  PUCK \nAdres: Pucka 4\, 84-123 Mrzezino\nTelefon: 58 673 88 47\nwww: https://parafiamrzezino.pl/ \nLink Google
URL:https://wojciech25.pl/wpis/parafia-pw-sw-aniolow-strozow-mrzezino/
LOCATION:Parafia pw. św. Aniołów Stróżów Mrzezino\, Pucka 4\, Mrzezino\, 84-123
CATEGORIES:HARMONOGRAM PEREGRYNACJI,KALENDARIUM
ATTACH;FMTTYPE=image/jpeg:https://wojciech25.pl/wp-content/uploads/2024/03/Parafia-pw.-sw.-Aniolow-Strozow-Mrzezino-PUCK.jpg
END:VEVENT
BEGIN:VEVENT
DTSTART;VALUE=DATE:20240512
DTEND;VALUE=DATE:20240513
DTSTAMP:20260424T014540
CREATED:20240424T123103Z
LAST-MODIFIED:20240424T123103Z
UID:1660-1715472000-1715558399@wojciech25.pl
SUMMARY:Odpust Archidiecezjalny
DESCRIPTION:12 maja 2024 Wzgórze św. Wojciecha\n 
URL:https://wojciech25.pl/wpis/odpust-archidiecezjalny/
LOCATION:Wzgórze Świętego Wojciecha\, Gdańsk
CATEGORIES:HARMONOGRAM PEREGRYNACJI,KALENDARIUM
ATTACH;FMTTYPE=image/jpeg:https://wojciech25.pl/wp-content/uploads/2024/03/Wzgorze-sw.-Wojciecha.jpg
END:VEVENT
BEGIN:VEVENT
DTSTART;VALUE=DATE:20240511
DTEND;VALUE=DATE:20240512
DTSTAMP:20260424T014540
CREATED:20240424T123103Z
LAST-MODIFIED:20240424T123103Z
UID:1659-1715385600-1715471999@wojciech25.pl
SUMMARY:Parafia pw. św. Ap. Piotra i Pawła Puck
DESCRIPTION:11 maja 2024 RELIKWIE ŚW. WOJCIECHA W NASZEJ PARAFII.\nSzczegóły na stronie parafialnej i ogłoszeniach. \nParafia pw. św. Ap. Piotra i Pawła Puck \nDekanat  PUCK \nAdres: Judyckiego 4\, 84-100 Puck\nTelefon: 58 673 23 18\nwww: https://farapuck.pl/ \nLink Google
URL:https://wojciech25.pl/wpis/parafia-pw-sw-ap-piotra-i-pawla-puck/
LOCATION:Parafia pw. św. Ap. Piotra i Pawła Puck\, Judyckiego 4\, Puck
CATEGORIES:HARMONOGRAM PEREGRYNACJI,KALENDARIUM
ATTACH;FMTTYPE=image/jpeg:https://wojciech25.pl/wp-content/uploads/2024/03/Parafia-pw.-sw.-Ap.-Piotra-i-Pawla-Puck.jpg
END:VEVENT
BEGIN:VEVENT
DTSTART;VALUE=DATE:20240510
DTEND;VALUE=DATE:20240511
DTSTAMP:20260424T014540
CREATED:20240424T123103Z
LAST-MODIFIED:20240424T123103Z
UID:1658-1715299200-1715385599@wojciech25.pl
SUMMARY:Parafia pw. Miłosierdzia Bożego Chłapowo
DESCRIPTION:10 maja 2024 RELIKWIE ŚW. WOJCIECHA W NASZEJ PARAFII.\nSzczegóły na stronie parafialnej i ogłoszeniach. \nParafia pw. Miłosierdzia Bożego Chłapowo \nDekanat  MORSKI \nAdres: Gościnna 12\, 84-120 Chłapowo\nTelefon: 58 674 23 23\nwww: https://www.parafia.chlapowo.pl/ \nLink Google
URL:https://wojciech25.pl/wpis/parafia-pw-milosierdzia-bozego-chlapowo/
LOCATION:Parafia pw. Miłosierdzia Bożego Chłapowo\, Gościnna 12\, Chłapowo
CATEGORIES:HARMONOGRAM PEREGRYNACJI,KALENDARIUM
ATTACH;FMTTYPE=image/jpeg:https://wojciech25.pl/wp-content/uploads/2024/03/Parafia-pw.-Milosierdzia-Bozego-Chlapowo.jpg
END:VEVENT
BEGIN:VEVENT
DTSTART;VALUE=DATE:20240509
DTEND;VALUE=DATE:20240510
DTSTAMP:20260424T014540
CREATED:20240424T123103Z
LAST-MODIFIED:20240424T123103Z
UID:1657-1715212800-1715299199@wojciech25.pl
SUMMARY:Parafia pw. św. Anny Chałupy
DESCRIPTION:9 maja 2024 RELIKWIE ŚW. WOJCIECHA W NASZEJ PARAFII.\nSzczegóły na stronie parafialnej i ogłoszeniach. \nParafia pw. św. Anny Chałupy \nDekanat  MORSKI \nAdres: Kaperska 30\, 84-120 Władysławowo\nTelefon: 58 674 19 90\nwww: http://www.chalupy.diecezja.gda.pl/ \nLink Google
URL:https://wojciech25.pl/wpis/parafia-pw-sw-anny-chalupy/
LOCATION:Parafia pw. św. Anny Chałupy\, Kaperska 30\, Władysławowo\, 84-120
CATEGORIES:HARMONOGRAM PEREGRYNACJI,KALENDARIUM
ATTACH;FMTTYPE=image/jpeg:https://wojciech25.pl/wp-content/uploads/2024/03/Parafia-pw.-sw.-Anny-Chalupy.jpg
END:VEVENT
BEGIN:VEVENT
DTSTART;VALUE=DATE:20240508
DTEND;VALUE=DATE:20240509
DTSTAMP:20260424T014540
CREATED:20240424T123103Z
LAST-MODIFIED:20240424T123103Z
UID:1656-1715126400-1715212799@wojciech25.pl
SUMMARY:Parafia pw. MB Nieustającej Pomocy Jurata
DESCRIPTION:8 maja 2024 RELIKWIE ŚW. WOJCIECHA W NASZEJ PARAFII.\nSzczegóły na stronie parafialnej i ogłoszeniach. \nParafia pw. MB Nieustającej Pomocy Jurata \nDekanat  MORSKI \nAdres:  ks. Gołębiowskiego 1\, 84-141 Jurata\nTelefon: 573 102 836\nwww: http://www.parafiajurata.pl/ \nLink Google
URL:https://wojciech25.pl/wpis/parafia-pw-mb-nieustajacej-pomocy-jurata/
LOCATION:Parafia pw. MB Nieustającej Pomocy Jurata\, ks. Gołębiowskiego 1\, Jurata
CATEGORIES:HARMONOGRAM PEREGRYNACJI,KALENDARIUM
ATTACH;FMTTYPE=image/jpeg:https://wojciech25.pl/wp-content/uploads/2024/03/Parafia-pw.-MB-Nieustajacej-Pomocy-Jurata.jpg
END:VEVENT
BEGIN:VEVENT
DTSTART;VALUE=DATE:20240507
DTEND;VALUE=DATE:20240508
DTSTAMP:20260424T014540
CREATED:20240424T123103Z
LAST-MODIFIED:20240424T123103Z
UID:1655-1715040000-1715126399@wojciech25.pl
SUMMARY:Parafia pw. Bożego Ciała Hel
DESCRIPTION:7 maja 2024 RELIKWIE ŚW. WOJCIECHA W NASZEJ PARAFII.\nSzczegóły na stronie parafialnej i ogłoszeniach. \nParafia pw. Bożego Ciała Hel \nDekanat  MORSKI \nAdres: ul. Wiejska 46\, 84-150 HEL\nTelefon: 519-574-260\nwww: http://www.hel.franciszkanie.net/ \nLink Google
URL:https://wojciech25.pl/wpis/parafia-pw-bozego-ciala-hel/
LOCATION:Parafia pw. Bożego Ciała Hel\, Wiejska 46\, HEL\, 84-150
CATEGORIES:HARMONOGRAM PEREGRYNACJI,KALENDARIUM
ATTACH;FMTTYPE=image/jpeg:https://wojciech25.pl/wp-content/uploads/2024/03/Parafia-pw.-Bozego-Ciala-Hel.jpg
END:VEVENT
BEGIN:VEVENT
DTSTART;VALUE=DATE:20240506
DTEND;VALUE=DATE:20240507
DTSTAMP:20260424T014540
CREATED:20240424T123103Z
LAST-MODIFIED:20240424T123103Z
UID:1838-1714953600-1715039999@wojciech25.pl
SUMMARY:Parafia pw. Wniebowzięcia NMP Władysławowo
DESCRIPTION:6 maja 2024 RELIKWIE ŚW. WOJCIECHA W NASZEJ PARAFII.\nSzczegóły na stronie parafialnej i ogłoszeniach. \nParafia pw. Wniebowzięcia NMP\, Władysławowo \nDekanat  MORSKI \nAdres: Żeromskiego 32\, 84-120 Władysławowo\nTelefon: 58 674 02 74 \nwww: http://parafiawladyslawowo.pl/ \nLink Google
URL:https://wojciech25.pl/wpis/parafia-pw-wniebowziecia-nmp-wladyslawowo/
LOCATION:Parafia pw. Wniebowzięcia NMP Władysławowo\, Żeromskiego 32\, Władysławowo
CATEGORIES:HARMONOGRAM PEREGRYNACJI,KALENDARIUM
ATTACH;FMTTYPE=image/jpeg:https://wojciech25.pl/wp-content/uploads/2024/03/Parafia-pw.-Wniebowziecia-NMP-Wladyslawowo.jpg
END:VEVENT
BEGIN:VEVENT
DTSTART;VALUE=DATE:20240505
DTEND;VALUE=DATE:20240506
DTSTAMP:20260424T014540
CREATED:20240424T123103Z
LAST-MODIFIED:20240424T123103Z
UID:1837-1714867200-1714953599@wojciech25.pl
SUMMARY:Parafia pw. św. Antoniego Padewskiego Kuźnica
DESCRIPTION:5 maja 2024 RELIKWIE ŚW. WOJCIECHA W NASZEJ PARAFII.\nSzczegóły na stronie parafialnej i ogłoszeniach. \nParafia pw. św. Antoniego Padewskiego\, Kuźnica \nDekanat  MORSKI \nAdres: Szynalewskiego 9\, 84-130 Kuźnica\nTelefon: 58 675 26 20\nwww: https://parafiakuznica.pl/ \nLink Google
URL:https://wojciech25.pl/wpis/parafia-pw-sw-antoniego-padewskiego-kuznica/
LOCATION:Parafia pw. św. Antoniego Padewskiego Kuźnica\, Szynalewskiego 9\, Kuźnica
CATEGORIES:HARMONOGRAM PEREGRYNACJI,KALENDARIUM
ATTACH;FMTTYPE=image/jpeg:https://wojciech25.pl/wp-content/uploads/2024/03/Parafia-pw.-sw.-Antoniego-Padewskiego-Kuznica.jpg
END:VEVENT
BEGIN:VEVENT
DTSTART;VALUE=DATE:20240430
DTEND;VALUE=DATE:20240501
DTSTAMP:20260424T014540
CREATED:20240424T123103Z
LAST-MODIFIED:20240424T123103Z
UID:1652-1714435200-1714521599@wojciech25.pl
SUMMARY:Parafia pw. Nawiedzenia NMP Jastarnia
DESCRIPTION:30 kwietnia 2024 RELIKWIE ŚW. WOJCIECHA W NASZEJ PARAFII.\nSzczegóły na stronie parafialnej i ogłoszeniach. \nParafia pw. Nawiedzenia NMP Jastarnia \nDekanat  MORSKI \nAdres: Księdza Stefańskiego 32\, 84-140 Jastarnia\nTelefon: 58 675 20 79\nwww: https://parafiajastarnia.pl/ \nLink Google
URL:https://wojciech25.pl/wpis/parafia-pw-nawiedzenia-nmp-jastarnia/
LOCATION:Parafia pw. Nawiedzenia NMP Jastarnia\, Księdza Stefańskiego 32\, Jastarnia\, 84-140
CATEGORIES:HARMONOGRAM PEREGRYNACJI,KALENDARIUM
ATTACH;FMTTYPE=image/jpeg:https://wojciech25.pl/wp-content/uploads/2024/03/Parafia-pw.-Nawiedzenia-NMP-Jastarnia.jpg
END:VEVENT
BEGIN:VEVENT
DTSTART;VALUE=DATE:20240429
DTEND;VALUE=DATE:20240430
DTSTAMP:20260424T014540
CREATED:20240325T074956Z
LAST-MODIFIED:20240325T110958Z
UID:1651-1714348800-1714435199@wojciech25.pl
SUMMARY:Parafia pw. św. Ignacego Loyoli Jastrzębia Góra
DESCRIPTION:29 kwietnia 2024 RELIKWIE ŚW. WOJCIECHA W NASZEJ PARAFII.\nSzczegóły na stronie parafialnej i ogłoszeniach. \nParafia pw. św. Ignacego Loyoli Jastrzębia Góra \nDekanat  ŻARNOWIEC \nAdres: Piastowska 14\, 84-104 Jastrzębia Góra\nTelefon: 512 730 373\nwww: https://www.parafia-jastrzebiagora.pl/ \nLink Google
URL:https://wojciech25.pl/wpis/parafia-pw-sw-ignacego-loyoli-jastrzebia-gora/
LOCATION:Parafia pw. św. Ignacego Loyoli Jastrzębia Góra\, Piastowska 14\, Jastrzębia Góra\, 84-104
CATEGORIES:HARMONOGRAM PEREGRYNACJI,KALENDARIUM
ATTACH;FMTTYPE=image/jpeg:https://wojciech25.pl/wp-content/uploads/2024/03/Parafia-pw.-sw.-Ignacego-Loyoli-Jastrzebia-Gora.jpg
END:VEVENT
BEGIN:VEVENT
DTSTART;VALUE=DATE:20240428
DTEND;VALUE=DATE:20240429
DTSTAMP:20260424T014540
CREATED:20240325T074956Z
LAST-MODIFIED:20240325T110552Z
UID:1650-1714262400-1714348799@wojciech25.pl
SUMMARY:Parafia pw. Niepokalanego Poczęcia NMP Ostrowo
DESCRIPTION:28 kwietnia 2024 RELIKWIE ŚW. WOJCIECHA W NASZEJ PARAFII.\nSzczegóły na stronie parafialnej i ogłoszeniach. \nParafia pw. Niepokalanego Poczęcia NMP Ostrowo \nDekanat  ŻARNOWIEC \nAdres: ul. Zabytkowa 2\, 84-105 Ostrowo\nTelefon: (58) 674 74 44\nwww: https://www.diecezja.gda.pl/parafie/504 \nLink Google
URL:https://wojciech25.pl/wpis/parafia-pw-niepokalanego-poczecia-nmp-ostrowo/
LOCATION:Parafia pw. Niepokalanego Poczęcia NMP Ostrowo\, Zabytkowa 2\, Ostrowo\, 84-105
CATEGORIES:HARMONOGRAM PEREGRYNACJI,KALENDARIUM
ATTACH;FMTTYPE=image/jpeg:https://wojciech25.pl/wp-content/uploads/2024/03/Parafia-pw.-Niepokalanego-Poczecia-NMP-Ostrowo.jpg
END:VEVENT
BEGIN:VEVENT
DTSTART;VALUE=DATE:20240427
DTEND;VALUE=DATE:20240428
DTSTAMP:20260424T014540
CREATED:20240325T170852Z
LAST-MODIFIED:20240325T170852Z
UID:1833-1714176000-1714262399@wojciech25.pl
SUMMARY:Parafia pw. św. Antoniego Padewskiego Karwia
DESCRIPTION:27 kwietnia 2024 RELIKWIE ŚW. WOJCIECHA W NASZEJ PARAFII.\nSzczegóły na stronie parafialnej i ogłoszeniach. \nParafia pw. św. Antoniego Padewskiego\, Karwia \nDekanat  ŻARNOWIEC \nAdres: Kolorowa 2\, 84-105 Władysławowo\nTelefon: 58 674 71 30 \nwww: http://www.parafia-karwia.pl/ \nLink Google
URL:https://wojciech25.pl/wpis/parafia-pw-sw-antoniego-padewskiego-karwia/
LOCATION:Parafia pw. św. Antoniego Padewskiego Karwia\, Kolorowa 2\, Władysławowo
CATEGORIES:HARMONOGRAM PEREGRYNACJI,KALENDARIUM
ATTACH;FMTTYPE=image/jpeg:https://wojciech25.pl/wp-content/uploads/2024/03/Parafia-pw.-sw.-Antoniego-Padewskiego-Karwia.jpeg
END:VEVENT
BEGIN:VEVENT
DTSTART;VALUE=DATE:20240426
DTEND;VALUE=DATE:20240427
DTSTAMP:20260424T014540
CREATED:20240325T074954Z
LAST-MODIFIED:20240325T110021Z
UID:1648-1714089600-1714175999@wojciech25.pl
SUMMARY:Parafia pw. św. Michała Archanioła Starzyno
DESCRIPTION:26 kwietnia 2024 RELIKWIE ŚW. WOJCIECHA W NASZEJ PARAFII.\nSzczegóły na stronie parafialnej i ogłoszeniach. \nParafia pw. św. Michała Archanioła Starzyno \nDekanat  ŻARNOWIEC \nAdres: ul. Długa 17\, 84-107 Starzyno\nTelefon: (58) 673-87-15 \nwww: https://www.parafiastarzyno.pl/ \nLink Google
URL:https://wojciech25.pl/wpis/parafia-pw-sw-michala-archaniola-starzyno/
LOCATION:Parafia pw. św. Michała Archanioła Starzyno\, ul. Długa 17\, Starzyno\, 84-107
CATEGORIES:HARMONOGRAM PEREGRYNACJI,KALENDARIUM
ATTACH;FMTTYPE=image/jpeg:https://wojciech25.pl/wp-content/uploads/2024/03/Parafia-pw.-sw.-Michala-Archaniola-Starzyno.jpg
END:VEVENT
BEGIN:VEVENT
DTSTART;VALUE=DATE:20240425
DTEND;VALUE=DATE:20240426
DTSTAMP:20260424T014540
CREATED:20240325T074954Z
LAST-MODIFIED:20240325T105531Z
UID:1647-1714003200-1714089599@wojciech25.pl
SUMMARY:Parafia pw. św. Katarzyny Aleks. Krokowa
DESCRIPTION:25 kwietnia 2024 RELIKWIE ŚW. WOJCIECHA W NASZEJ PARAFII.\nSzczegóły na stronie parafialnej i ogłoszeniach. \nParafia pw. św. Katarzyny Aleks. Krokowa \nDekanat  ŻARNOWIEC \nAdres: Wejherowska 1\, 84-110 Krokowa\nTelefon: 58 673 71 19\nwww: http://www.parafiakrokowa.pl/ \nLink Google
URL:https://wojciech25.pl/wpis/parafia-pw-sw-katarzyny-aleks-krokowa/
LOCATION:Parafia pw. św. Katarzyny Aleks. Krokowa\, Wejherowska 1\, Krokowa\, 84-110
CATEGORIES:HARMONOGRAM PEREGRYNACJI,KALENDARIUM
ATTACH;FMTTYPE=image/jpeg:https://wojciech25.pl/wp-content/uploads/2024/03/Parafia-pw.-sw.-Katarzyny-Aleks.-Krokowa.jpg
END:VEVENT
BEGIN:VEVENT
DTSTART;VALUE=DATE:20240424
DTEND;VALUE=DATE:20240425
DTSTAMP:20260424T014540
CREATED:20240325T074954Z
LAST-MODIFIED:20240325T105024Z
UID:1646-1713916800-1714003199@wojciech25.pl
SUMMARY:Parafia pw. Zwiastowania Pana Żarnowiec
DESCRIPTION:24 kwietnia 2024 RELIKWIE ŚW. WOJCIECHA W NASZEJ PARAFII.\nSzczegóły na stronie parafialnej i ogłoszeniach. \nParafia pw. Zwiastowania Pana Żarnowiec \nDekanat  ŻARNOWIEC \nAdres: Klasztorna 3\, 84-110 Żarnowiec\nTelefon: 58 673 71 07\nwww: https://zarnowiec.diecezja.gda.pl/ \nLink Google
URL:https://wojciech25.pl/wpis/parafia-pw-zwiastowania-pana-zarnowiec/
LOCATION:Parafia pw. Zwiastowania Pana Żarnowiec\, Klasztorna 3\, Żarnowiec\, 84-110
CATEGORIES:HARMONOGRAM PEREGRYNACJI,KALENDARIUM
ATTACH;FMTTYPE=image/jpeg:https://wojciech25.pl/wp-content/uploads/2024/03/Parafia-pw.-Zwiastowania-Pana-Zarnowiec.jpg
END:VEVENT
BEGIN:VEVENT
DTSTART;VALUE=DATE:20240423
DTEND;VALUE=DATE:20240424
DTSTAMP:20260424T014540
CREATED:20240325T074954Z
LAST-MODIFIED:20240325T080242Z
UID:1630-1713830400-1713916799@wojciech25.pl
SUMMARY:Parafia pw. MB Królowej Polski Tyłowo
DESCRIPTION:23 kwietnia 2024 RELIKWIE ŚW. WOJCIECHA W NASZEJ PARAFII.\nSzczegóły na stronie parafialnej i ogłoszeniach. \nParafia pw. MB Królowej Polski Tyłowo \nDekanat  ŻARNOWIEC \nAdres: Wejherowska 24\, 84-110 Tyłowo\nTelefon: 690 330 075\nwww: https://www.diecezja.gda.pl/parafie/419 \nLink Google
URL:https://wojciech25.pl/wpis/parafia-pw-mb-krolowej-polski-tylowo/
LOCATION:Parafia pw. MB Królowej Polski Tyłowo\, Wejherowska 24\, Tyłowo\, 84-110
CATEGORIES:HARMONOGRAM PEREGRYNACJI,KALENDARIUM
ATTACH;FMTTYPE=image/jpeg:https://wojciech25.pl/wp-content/uploads/2024/03/Parafia-pw.-MB-Krolowej-Polski-Tylowo.jpg
END:VEVENT
BEGIN:VEVENT
DTSTART;VALUE=DATE:20240422
DTEND;VALUE=DATE:20240423
DTSTAMP:20260424T014540
CREATED:20240325T074954Z
LAST-MODIFIED:20240325T104432Z
UID:1644-1713744000-1713830399@wojciech25.pl
SUMMARY:Parafia pw. Niepokalanego Serca Maryi Leśniewo
DESCRIPTION:22 kwietnia 2024 RELIKWIE ŚW. WOJCIECHA W NASZEJ PARAFII.\nSzczegóły na stronie parafialnej i ogłoszeniach. \nParafia pw. Niepokalanego Serca Maryi Leśniewo \nDekanat  ŻARNOWIEC \nAdres: Kościelna 12\, 84-106 Leśniewo\nTelefon: 58 673 89 94\nwww: https://www.diecezja.gda.pl/parafie/421 \nLink Google
URL:https://wojciech25.pl/wpis/parafia-pw-niepokalanego-serca-maryi-lesniewo/
LOCATION:Parafia pw. Niepokalanego Serca Maryi Leśniewo\, Kościelna 12\, Leśniewo\, 84-106
CATEGORIES:HARMONOGRAM PEREGRYNACJI,KALENDARIUM
ATTACH;FMTTYPE=image/jpeg:https://wojciech25.pl/wp-content/uploads/2024/03/Parafia-pw.-Niepokalanego-Serca-Maryi-Lesniewo-ZARNOWIEC.jpg
END:VEVENT
BEGIN:VEVENT
DTSTART;VALUE=DATE:20240421
DTEND;VALUE=DATE:20240422
DTSTAMP:20260424T014540
CREATED:20240325T074954Z
LAST-MODIFIED:20240325T103240Z
UID:1643-1713657600-1713743999@wojciech25.pl
SUMMARY:Parafia pw. św. Maksymiliana Kolbego Strzebielino
DESCRIPTION:21 kwietnia 2024 RELIKWIE ŚW. WOJCIECHA W NASZEJ PARAFII.\nSzczegóły na stronie parafialnej i ogłoszeniach. \nParafia pw. św. Maksymiliana Kolbego Strzebielino \nDekanat  LUZINO \nAdres: Jana Pawła II 10\, 84-220 Strzebielino\nTelefon: 58 676 25 49\nwww: http://www.parafia.strzebielino.eu/ \nLink Google
URL:https://wojciech25.pl/wpis/parafia-pw-sw-maksymiliana-kolbego-strzebielino/
LOCATION:Parafia pw. św. Maksymiliana Kolbego Strzebielino\, Jana Pawła II 10\, Strzebielino\, 84-220
CATEGORIES:HARMONOGRAM PEREGRYNACJI,KALENDARIUM
ATTACH;FMTTYPE=image/jpeg:https://wojciech25.pl/wp-content/uploads/2024/03/Parafia-pw.-sw.-Maksymiliana-Kolbego-Strzebielino.jpg
END:VEVENT
BEGIN:VEVENT
DTSTART;VALUE=DATE:20240420
DTEND;VALUE=DATE:20240421
DTSTAMP:20260424T014540
CREATED:20240325T074954Z
LAST-MODIFIED:20240325T102515Z
UID:1642-1713571200-1713657599@wojciech25.pl
SUMMARY:Parafia pw. św. Jadwigi Kębłowo
DESCRIPTION:20 kwietnia 2024 RELIKWIE ŚW. WOJCIECHA W NASZEJ PARAFII.\nSzczegóły na stronie parafialnej i ogłoszeniach. \nParafia pw. św. Jadwigi Kębłowo \nDekanat  LUZINO \nAdres: Wiejska 52\, 84-242 Kębłowo\nTelefon: 58 678 14 52\nwww: https://www.facebook.com/profile.php?id=100066975788929 \nLink Google
URL:https://wojciech25.pl/wpis/parafia-pw-sw-jadwigi-keblowo/
LOCATION:Parafia pw. św. Jadwigi Kębłowo\, Wiejska 52\, Kębłowo\, 84-242
CATEGORIES:HARMONOGRAM PEREGRYNACJI,KALENDARIUM
ATTACH;FMTTYPE=image/jpeg:https://wojciech25.pl/wp-content/uploads/2024/03/Parafia-pw.-sw.-Jadwigi-Keblowo.jpg
END:VEVENT
END:VCALENDAR